BEGIN:VCALENDAR
VERSION:2.0
PRODID:-//ChamberMaster//Event Calendar 2.0//EN
METHOD:PUBLISH
X-PUBLISHED-TTL:P3D
REFRESH-INTERVAL:P3D
CALSCALE:GREGORIAN
BEGIN:VEVENT
DTSTART:20120412T150000Z
DTEND:20120412T150000Z
X-MICROSOFT-CDO-ALLDAYEVENT:FALSE
SUMMARY:Ribbon Cutting at Natural Blends
DESCRIPTION:Please join us for a ribbon cutting to celebrate the opening of one of Reidsville's newest businesses. Sample some of their wonderful local and gluten-free products
X-ALT-DESC;FMTTYPE=text/html:<p>\n	Please join us for a ribbon cutting to celebrate the opening of one of Reidsville&#39\;s newest businesses. Sample some of&nbsp\;their wonderful local and gluten-free products</p>\n
LOCATION:337-A S. Scales Street .
UID:e.111.2197
SEQUENCE:3
DTSTAMP:20260421T130632Z
URL:https://business.reidsvillechamber.org/events/details/ribbon-cutting-at-natural-blends-04-12-2012-2197
END:VEVENT

END:VCALENDAR
