BEGIN:VCALENDAR
VERSION:2.0
PRODID:-//ChamberMaster//Event Calendar 2.0//EN
METHOD:PUBLISH
X-PUBLISHED-TTL:P3D
REFRESH-INTERVAL:P3D
CALSCALE:GREGORIAN
BEGIN:VEVENT
DTSTART:20100406T153000Z
DTEND:20100406T160000Z
X-MICROSOFT-CDO-ALLDAYEVENT:FALSE
SUMMARY:Ribbon Cutting at Pippies Closet
DESCRIPTION:Grand Opening Celebration and Ribbon CuttingTuesday\, April 6\, 201011:30 a.m.Pippies Closet209 S. Scales Street "We Sell \, Buy and Swap ''Like New'' Brand Name Clothes\, Shoes & Accessories\, for guys and girls\, pre-teen sizes and up."
X-ALT-DESC;FMTTYPE=text/html:<div style="text-align: center"><strong><span style="font-size: medium">Grand Opening Celebration and Ribbon Cutting</span></strong></div><div style="text-align: center"><strong><span style="font-size: medium">Tuesday\, April 6\, 2010</span></strong></div><div style="text-align: center"><strong><span style="font-size: medium">11:30 a.m.</span></strong></div><div style="text-align: center"><strong><span style="font-size: medium">Pippies Closet</span></strong></div><div style="text-align: center"><strong><span style="font-size: medium">209 S. Scales Street</span></strong></div><div style="text-align: center">&nbsp\;</div><div style="text-align: center"><p>&quot\;We&nbsp\;Sell \, Buy and Swap &rsquo\;&rsquo\;Like New&rsquo\;&rsquo\; Brand Name Clothes\, Shoes &amp\; Accessories\, for guys and girls\, pre-teen sizes and up.&quot\;</p></div>
LOCATION:
UID:e.111.1350
SEQUENCE:3
DTSTAMP:20260424T132354Z
URL:https://business.reidsvillechamber.org/events/details/ribbon-cutting-at-pippies-closet-04-06-2010-1350
END:VEVENT

END:VCALENDAR
