BEGIN:VCALENDAR
VERSION:2.0
PRODID:-//ChamberMaster//Event Calendar 2.0//EN
METHOD:PUBLISH
X-PUBLISHED-TTL:P3D
REFRESH-INTERVAL:P3D
CALSCALE:GREGORIAN
BEGIN:VEVENT
DTSTART:20111115T163000Z
DTEND:20111115T173000Z
X-MICROSOFT-CDO-ALLDAYEVENT:FALSE
SUMMARY:Ribbon Cutting at Reidsville Veterinary Hospital
DESCRIPTION:Ribbon Cutting at Reidsville Vererinary Hospital\n\nPlease come out to celebrate the Grand Opening of our state of the art facility.
X-ALT-DESC;FMTTYPE=text/html:Ribbon Cutting at Reidsville Vererinary Hospital<br />\nPlease come out to celebrate the Grand Opening of our state of the art facility.
LOCATION:3202 Barnes Street Reidsville\, NC 27320-2607
UID:e.111.2064
SEQUENCE:3
DTSTAMP:20260421T193152Z
URL:https://business.reidsvillechamber.org/events/details/ribbon-cutting-at-reidsville-veterinary-hospital-11-15-2011-2064
END:VEVENT

END:VCALENDAR
