BEGIN:VCALENDAR
VERSION:2.0
PRODID:-//ChamberMaster//Event Calendar 2.0//EN
METHOD:PUBLISH
X-PUBLISHED-TTL:P3D
REFRESH-INTERVAL:P3D
CALSCALE:GREGORIAN
BEGIN:VEVENT
DTSTART:20100415T190000Z
DTEND:20100415T200000Z
X-MICROSOFT-CDO-ALLDAYEVENT:FALSE
SUMMARY:Ribbon Cutting at Tall Order Music
DESCRIPTION:Ribbon Cutting at Tall Order MusicJoin us in welcoming & celebrating with this new business downtown 3:00 p.m.April 15\, 2010217 SW Market StreetReidsville Enjoy the music\, food & fun as you wind down from tax day!
X-ALT-DESC;FMTTYPE=text/html:<div style="text-align: center\;"><span style="font-family: Comic Sans MS\;"><span style="font-size: medium\;"><strong>Ribbon Cutting at Tall Order Music</strong></span></span></div><div style="text-align: center\;"><span style="font-family: Comic Sans MS\;"><span style="font-size: medium\;"><strong>Join us in welcoming &amp\; celebrating with this new business downto</strong></span></span><span style="font-family: Comic Sans MS\;"><span style="font-size: medium\;"><strong>wn</strong></span></span></div><div style="text-align: center\;">&nbsp\;</div><div style="text-align: center\;"><span style="font-family: Comic Sans MS\;"><span style="font-size: medium\;"><strong>3:00 p.m.</strong></span></span></div><div style="text-align: center\;"><span style="font-family: Comic Sans MS\;"><span style="font-size: medium\;"><strong>April 15\, 2010</strong></span></span></div><div style="text-align: center\;"><span style="font-family: Comic Sans MS\;"><span style="font-size: medium\;"><strong>217 SW Market Street</strong></span></span></div><div style="text-align: center\;"><span style="font-family: Comic Sans MS\;"><span style="font-size: medium\;"><strong>Reidsville</strong></span></span></div><div style="text-align: center\;">&nbsp\;</div><div style="text-align: center\;"><div style="text-align: center\;"><span style="font-family: Comic Sans MS\;"><span style="font-size: medium\;"><strong>Enjoy the music\, food &amp\; fun as you wind down from tax day!</strong></span></span></div></div><div style="text-align: center\;">&nbsp\;</div><div style="text-align: center\;">&nbsp\;</div>
LOCATION:
UID:e.111.1358
SEQUENCE:3
DTSTAMP:20260424T133743Z
URL:https://business.reidsvillechamber.org/events/details/ribbon-cutting-at-tall-order-music-04-15-2010-1358
END:VEVENT

END:VCALENDAR
