BEGIN:VCALENDAR
VERSION:2.0
PRODID:-//ChamberMaster//Event Calendar 2.0//EN
METHOD:PUBLISH
X-PUBLISHED-TTL:P3D
REFRESH-INTERVAL:P3D
CALSCALE:GREGORIAN
BEGIN:VEVENT
DTSTART:20100527T150000Z
DTEND:20100527T160000Z
X-MICROSOFT-CDO-ALLDAYEVENT:FALSE
SUMMARY:Ribbon Cutting at the Chamber Offices
DESCRIPTION:Please join us at The Reidsville Chamber of Commerce513 S. Main Streetas we welcome Law Office of Christopher M. HicksBHH EngineeringBookkeeping PlusLee Electric&Rabco with a Ribbon Cutting Ceremony and Refreshmentson Thursday\, May 27 at 11:00 am
X-ALT-DESC;FMTTYPE=text/html:<div style="text-align: center"><span style="font-size: small">Please join us at </span></div><div style="text-align: center"><span style="font-size: medium">The Reidsville Chamber of Commerce</span></div><div style="text-align: center"><span style="font-size: small">513 S. Main Street</span></div><div style="text-align: center"><span style="font-size: small">as we welcome</span></div><div style="text-align: center">&nbsp\;</div><div style="text-align: center"><span style="font-size: large">Law Office of Christopher M. Hicks</span></div><div style="text-align: center"><span style="font-size: large">BHH Engineering</span></div><div style="text-align: center"><span style="font-size: large">Bookkeeping Plus</span></div><div style="text-align: center"><span style="font-size: large">Lee Electric</span></div><div style="text-align: center"><span style="font-size: large">&amp\;</span></div><div style="text-align: center"><span style="font-size: large">Rabco</span></div><div style="text-align: center">&nbsp\;</div><div style="text-align: center"><span style="font-size: small">with a Ribbon Cutting Ceremony and Refreshments</span></div><div style="text-align: center"><span style="font-size: small">on Thursday\, May 27 at 11:00 am</span></div>
LOCATION:
UID:e.111.1461
SEQUENCE:3
DTSTAMP:20260424T133407Z
URL:https://business.reidsvillechamber.org/events/details/ribbon-cutting-at-the-chamber-offices-05-27-2010-1461
END:VEVENT

END:VCALENDAR
