BEGIN:VCALENDAR
VERSION:2.0
PRODID:-//ChamberMaster//Event Calendar 2.0//EN
METHOD:PUBLISH
X-PUBLISHED-TTL:P3D
REFRESH-INTERVAL:P3D
CALSCALE:GREGORIAN
BEGIN:VEVENT
DTSTART:20120612T153000Z
DTEND:20120612T153000Z
X-MICROSOFT-CDO-ALLDAYEVENT:FALSE
SUMMARY:Ribbon Cutting at The Law Office of Cathy Stroupe
DESCRIPTION:Join Us For a Ribbon Cutting\n\n	to Welcome The Law Office of Cathy Stroupe\n\n	to Reidsville!!!!\n\n	\n\n	Lunch Will Be Catered by\n\n	Short Sugar's Drive In\n\n	\n\n	11:30 AM\, Tuesday\, June 12th\, 2012\n\n	1701 1/2 S. Scales Street\n\n	Reidsville\, NC 27323\n\n	(336) 348-1241
X-ALT-DESC;FMTTYPE=text/html:<p style="text-align: center">\n	Join Us For a Ribbon Cutting<br />\n	to Welcome The Law Office of Cathy Stroupe<br />\n	to Reidsville!!!!<br />\n	<br />\n	Lunch Will Be Catered by<br />\n	Short Sugar&#39\;s Drive In<br />\n	<br />\n	11:30 AM\, Tuesday\, June 12th\, 2012<br />\n	1701 1/2 S. Scales Street<br />\n	Reidsville\, NC 27323<br />\n	(336) 348-1241<br />\n	&nbsp\;</p>\n
LOCATION:
UID:e.111.2249
SEQUENCE:3
DTSTAMP:20260425T111111Z
URL:https://business.reidsvillechamber.org/events/details/ribbon-cutting-at-the-law-office-of-cathy-stroupe-06-12-2012-2249
END:VEVENT

END:VCALENDAR
