BEGIN:VCALENDAR
VERSION:2.0
PRODID:-//ChamberMaster//Event Calendar 2.0//EN
METHOD:PUBLISH
X-PUBLISHED-TTL:P3D
REFRESH-INTERVAL:P3D
CALSCALE:GREGORIAN
BEGIN:VEVENT
DTSTART;VALUE=DATE:20110722
DTEND;VALUE=DATE:20110723
TRANSP:TRANSPARENT
X-MICROSOFT-CDO-ALLDAYEVENT:TRUE
SUMMARY:Ribbon Cutting- Downtown Kid Town
DESCRIPTION:Please come out to support one of our newest Chamber members at its Ribbon Cutting!
X-ALT-DESC;FMTTYPE=text/html:Please come out to support one of our newest Chamber members at its Ribbon Cutting!
LOCATION:231 South Scales Street Reidsville
UID:e.111.1958
SEQUENCE:3
DTSTAMP:20260423T134736Z
URL:https://business.reidsvillechamber.org/events/details/ribbon-cutting-downtown-kid-town-07-22-2011-1958
END:VEVENT

END:VCALENDAR
