BEGIN:VCALENDAR
VERSION:2.0
PRODID:-//ChamberMaster//Event Calendar 2.0//EN
METHOD:PUBLISH
X-PUBLISHED-TTL:P3D
REFRESH-INTERVAL:P3D
CALSCALE:GREGORIAN
BEGIN:VEVENT
DTSTART:20100826T153000Z
DTEND:20100826T163000Z
X-MICROSOFT-CDO-ALLDAYEVENT:FALSE
SUMMARY:Ribbon Cutting - First Tee
DESCRIPTION:Please join the Reidsville Chamberas we welcome First Tee with a ribbon cutting ceremony onAugust 26th11:30 am 1417 Freeway Drive\, Reidsville
X-ALT-DESC;FMTTYPE=text/html:<div style="text-align: center"><span style="font-size: medium">Please join the Reidsville Chamber</span></div><div style="text-align: center"><span style="font-size: medium">as we welcome</span></div><div style="text-align: center">&nbsp\;</div><div style="text-align: center"><span style="color: #ff0000"><em><span style="font-size: large"><span>First Tee</span></span></em></span></div><div style="text-align: center">&nbsp\;</div><div style="text-align: center"><span><span style="font-size: large"><span><span style="font-size: medium">with a ribbon cutting ceremony on</span></span></span></span></div><div style="text-align: center"><span><span style="font-size: large"><span><span style="font-size: medium">August 26th</span></span></span></span></div><div style="text-align: center"><span><span style="font-size: large"><span><span style="font-size: medium">11:30 am </span></span></span></span></div><div style="text-align: center"><span><span style="font-size: large"><span><span style="font-size: medium">1417 Freeway Drive\, Reidsville</span></span></span></span></div><div style="text-align: center">&nbsp\;</div><div style="text-align: center">&nbsp\;</div><div style="text-align: center">&nbsp\;</div>
LOCATION:
UID:e.111.1493
SEQUENCE:3
DTSTAMP:20260424T065446Z
URL:https://business.reidsvillechamber.org/events/details/ribbon-cutting-first-tee-08-26-2010-1493
END:VEVENT

END:VCALENDAR
