BEGIN:VCALENDAR
VERSION:2.0
PRODID:-//ChamberMaster//Event Calendar 2.0//EN
METHOD:PUBLISH
X-PUBLISHED-TTL:P3D
REFRESH-INTERVAL:P3D
CALSCALE:GREGORIAN
BEGIN:VEVENT
DTSTART:20101130T163000Z
DTEND:20101130T173000Z
X-MICROSOFT-CDO-ALLDAYEVENT:FALSE
SUMMARY:Ribbon Cutting -- FURSTY'S Pizza
DESCRIPTION:Please come join us for a Ribbon Cutting\n\n	at Fursty's Pizza!\n\n	\n\n	Tuesday\, November 30th\n\n	 @ 11:30 a.m.\n\n	\n\n	 Located at:  1409 Freeway Drive\, Reidsville\, NC 27320\n\n	(located on the far Left of Ashcroft Commons)\n\n	\n\n	Please contact the Reidsville Chamber at (336) 349-8481 if you have any questions.
X-ALT-DESC;FMTTYPE=text/html:<p style="text-align: center\;">\n	<span style="font-size: 18px\;"><em>Please come join us for a <span style="color: rgb(0\, 0\, 255)\;">Ribbon Cutting</span></em><br />\n	at <span style="color: rgb(255\, 0\, 0)\;"><strong>Fursty&#39\;s Pizza</strong>!</span></span><br />\n	<br />\n	<strong><span style="font-size: 14px\;"><span style="background-color: rgb(255\, 255\, 0)\;">Tuesday\, November 30th</span><br />\n	<span style="background-color: rgb(255\, 255\, 0)\;"> @ 11:30 a.m.</span></span></strong><br />\n	<br />\n	<span style="font-size: 14px\;"> Located at:&nbsp\; 1409 Freeway Drive\, Reidsville\, NC 27320<br />\n	(<em>located on the far Left of <strong>Ashcroft Commons</strong></em>)</span><br />\n	<br />\n	Please contact the Reidsville Chamber at <strong>(336) 349-8481</strong> if you have any questions.</p>\n
LOCATION:
UID:e.111.1546
SEQUENCE:3
DTSTAMP:20260424T022808Z
URL:https://business.reidsvillechamber.org/events/details/ribbon-cutting-fursty-s-pizza-11-30-2010-1546
END:VEVENT

END:VCALENDAR
