BEGIN:VCALENDAR
VERSION:2.0
PRODID:-//ChamberMaster//Event Calendar 2.0//EN
METHOD:PUBLISH
X-PUBLISHED-TTL:P3D
REFRESH-INTERVAL:P3D
CALSCALE:GREGORIAN
BEGIN:VEVENT
DTSTART:20120109T163000Z
DTEND:20120109T173000Z
X-MICROSOFT-CDO-ALLDAYEVENT:FALSE
SUMMARY:Ribbon Cutting-Grand Opening at Chesnut Tax Services
DESCRIPTION:Please come out to support one Chesnut Tax servcies as they have relocated  and expanded their services to insurance as well!
X-ALT-DESC;FMTTYPE=text/html:Please come out to support one Chesnut Tax servcies as they have relocated &nbsp\;and expanded their services to insurance as well!&nbsp\;
LOCATION:1309 Northup St Suites G\,H\,I Reidsville
UID:e.111.2119
SEQUENCE:3
DTSTAMP:20260421T163753Z
URL:https://business.reidsvillechamber.org/events/details/ribbon-cutting-grand-opening-at-chesnut-tax-services-01-09-2012-2119
END:VEVENT

END:VCALENDAR
