BEGIN:VCALENDAR
VERSION:2.0
PRODID:-//ChamberMaster//Event Calendar 2.0//EN
METHOD:PUBLISH
X-PUBLISHED-TTL:P3D
REFRESH-INTERVAL:P3D
CALSCALE:GREGORIAN
BEGIN:VEVENT
DTSTART:20101116T143000Z
DTEND:20101116T153000Z
X-MICROSOFT-CDO-ALLDAYEVENT:FALSE
SUMMARY:Ribbon Cutting -- J & V Nails
DESCRIPTION:Please come join us for a Ribbon Cutting\n\n	at J & V Nails!\n\n	\n\n	Tuesday\, November 16th\n\n	 @ 9:30 a.m.\n\n	\n\n	 Located at:  424 S. Scales Street\, Reidsville\, NC 27320\n\n	(on the corner of Piedmont St. and S. Scales St.)\n\n	\n\n	Please contact the Reidsville Chamber at (336) 349-8481 if you have any questions.
X-ALT-DESC;FMTTYPE=text/html:<p style="text-align: center\;">\n	<span style="font-size: 18px\;"><em>Please come join us for a<span style="color: rgb(175\, 238\, 238)\;"> </span><span style="color: rgb(255\, 0\, 0)\;">Ribbon Cutting</span></em><br />\n	at <span style="color: rgb(0\, 0\, 255)\;"><strong>J &amp\; V Nails</strong>!</span></span><br />\n	<br />\n	<strong><span style="font-size: 14px\;"><span style="background-color: rgb(255\, 255\, 0)\;">Tuesday\, November 16th</span><br />\n	<span style="background-color: rgb(255\, 255\, 0)\;"> @ 9:30 a.m.</span></span></strong><br />\n	<br />\n	<span style="font-size: 14px\;"> Located at:&nbsp\; 424 S. Scales Street\,</span><span style="font-size: 14px\;"> Reidsville\, NC 27320<br />\n	(<em><span style="font-weight: bold\;">on the </span></em><strong><em><span style="font-weight: bold\;">corner of Piedmont </span>St. and S. Scales St.</em>)</strong></span><br />\n	<br />\n	Please contact the Reidsville Chamber at <strong>(336) 349-8481</strong> if you have any questions.</p>\n
LOCATION:
UID:e.111.1548
SEQUENCE:3
DTSTAMP:20260424T035346Z
URL:https://business.reidsvillechamber.org/events/details/ribbon-cutting-j-v-nails-11-16-2010-1548
END:VEVENT

END:VCALENDAR
