BEGIN:VCALENDAR
VERSION:2.0
PRODID:-//ChamberMaster//Event Calendar 2.0//EN
METHOD:PUBLISH
X-PUBLISHED-TTL:P3D
REFRESH-INTERVAL:P3D
CALSCALE:GREGORIAN
BEGIN:VEVENT
DTSTART:20150211T170000Z
DTEND:20150211T180000Z
X-MICROSOFT-CDO-ALLDAYEVENT:FALSE
SUMMARY:Ribbon Cutting - Joe Wright\, CPA PLLC.
DESCRIPTION:Join the Chamber for a Ribbon Cutting\n\nto Welcome Joe Wright\, CPA PLLC.\n\nto Reidsville!!!!\n\n\n\nLight Refreshments Will Be Served\n\n\n\n12 PM\, Wednesday\, February 11th\, 2015\n\nJoe Wright\, CPA PLLC.\n\n1203 B Northup Street\n\nReidsville\, NC 27320\n\n(336) 816-3989
X-ALT-DESC;FMTTYPE=text/html:<p style="text-align: center">Join the Chamber for a Ribbon Cutting<br />\nto Welcome Joe Wright\, CPA PLLC.<br />\nto&nbsp\;Reidsville!!!!<br />\n<br />\nLight Refreshments Will Be Served<br />\n<br />\n<strong>12 PM\, Wednesday\, February&nbsp\;11th\, 2015</strong></p>\n\n<div class="txtHeading" style="font-weight: bold\; font-size: 14px\; color: rgb(0\, 0\, 0)\; font-family: Arial\, Helvetica\, 'MS Sans Serif'\, sans-serif\; text-align: center\;">Joe Wright\, CPA PLLC.</div>\n\n<div style="text-align: center\;"><span style="font-size:12px\;"><span style="color: rgb(0\, 0\, 0)\; font-family: Arial\, Helvetica\, 'MS Sans Serif'\, sans-serif\;">1203&nbsp\;B Northup Street</span><br style="color: rgb(0\, 0\, 0)\; font-family: Arial\, Helvetica\, 'MS Sans Serif'\, sans-serif\; font-size: 11px\;" />\n<span style="color: rgb(0\, 0\, 0)\; font-family: Arial\, Helvetica\, 'MS Sans Serif'\, sans-serif\;">Reidsville\, NC 27320</span><br style="color: rgb(0\, 0\, 0)\; font-family: Arial\, Helvetica\, 'MS Sans Serif'\, sans-serif\; font-size: 11px\;" />\n<span style="color: rgb(0\, 0\, 0)\; font-family: Arial\, Helvetica\, 'MS Sans Serif'\, sans-serif\;">(336) 816-3989</span></span></div>\n
LOCATION:
UID:e.111.3035
SEQUENCE:3
DTSTAMP:20260422T090111Z
URL:https://business.reidsvillechamber.org/events/details/ribbon-cutting-joe-wright-cpa-pllc-02-11-2015-3035
END:VEVENT

END:VCALENDAR
