BEGIN:VCALENDAR
VERSION:2.0
PRODID:-//ChamberMaster//Event Calendar 2.0//EN
METHOD:PUBLISH
X-PUBLISHED-TTL:P3D
REFRESH-INTERVAL:P3D
CALSCALE:GREGORIAN
BEGIN:VEVENT
DTSTART:20100308T190000Z
DTEND:20100308T200000Z
X-MICROSOFT-CDO-ALLDAYEVENT:FALSE
SUMMARY:Ribbon Cutting & Open House
DESCRIPTION:Ribbon Cutting & Open HouseA Cleaner LivingA Division of ACL Maintenace Group\, Inc Monday\, March 8\, 20102:00 p.m.2300 Freeway DriveReidsville\, NC (The Preble Building-formerly Boat Tailors)
X-ALT-DESC;FMTTYPE=text/html:<div style="text-align: center"><span style="font-size: large">Ribbon Cutting &amp\; Open House</span></div><div style="text-align: center"><span style="font-size: large">A Cleaner Living</span></div><div style="text-align: center"><span style="font-size: large"><span style="font-size: small"><span style="font-size: x-small">A Division of ACL Maintenace Group\, Inc</span></span></span></div><div style="text-align: center">&nbsp\;</div><div style="text-align: center"><span style="font-size: medium">Monday\, March 8\, 2010</span></div><div style="text-align: center"><span style="font-size: medium">2:00 p.m.</span></div><div style="text-align: center"><span style="font-size: medium">2300 Freeway Drive</span></div><div style="text-align: center"><span style="font-size: medium">Reidsville\, NC</span></div><div style="text-align: center">&nbsp\;</div><div style="text-align: center"><span style="font-size: medium">(The Preble Building-formerly Boat Tailors)</span></div>
LOCATION:
UID:e.111.1339
SEQUENCE:3
DTSTAMP:20260424T151613Z
URL:https://business.reidsvillechamber.org/events/details/ribbon-cutting-open-house-03-08-2010-1339
END:VEVENT

END:VCALENDAR
