BEGIN:VCALENDAR
VERSION:2.0
PRODID:-//ChamberMaster//Event Calendar 2.0//EN
METHOD:PUBLISH
X-PUBLISHED-TTL:P3D
REFRESH-INTERVAL:P3D
CALSCALE:GREGORIAN
BEGIN:VEVENT
DTSTART:20100401T180000Z
DTEND:20100401T190000Z
X-MICROSOFT-CDO-ALLDAYEVENT:FALSE
SUMMARY:Ribbon Cutting & Open House for the Pinwheel Garden at Partnership for Children
DESCRIPTION:Ribbon Cutting & Open HouseThursday\, April 1\, 20102:00 p.m.7572 NC Hwy 87Rockingham County Partnership for Children office Pinwheels for PreventionShining in the sun\, the pinwheel is reflective of the bright future ALL children deserve.  It is our belief that getting it right early is less costly than trying to fix it later.  In recognition of Child Abuse Prevention Month and the Month of the Young Child\, the Rockingham County Partnership for Children and Help\, Inc.: Center Against Violence will plant a Pinwheel Garden at the Partnership office.  The intention of the Pinwheel Garden is to raise awareness about the importance of play and positive parenting in the prevention of child abuse and neglect.  Promoting developmentally appropriate play and prioritizing prevention from the beginning of a child's life can help prevent child abuse and neglect from ever occurring.   To learn more about promoting play and preventing child abuse and neglect you can attend a Ribbon Cutting and Open House for our Pinwheel Garden a the Partnership for Children office on Thursday\, April 1st at 2pm.  Our office is located at 7572 NC Hwy 87\, Reidsville
X-ALT-DESC;FMTTYPE=text/html:<div style="text-align: center"><span style="font-size: medium">Ribbon Cutting &amp\; Open House</span></div><div style="text-align: center"><span style="font-size: medium">Thursday\, April 1\, 2010</span></div><div style="text-align: center"><span style="font-size: medium">2:00 p.m.</span></div><div style="text-align: center"><span style="font-size: medium">7572 NC Hwy 87</span></div><div style="text-align: center"><span style="font-size: medium">Rockingham County Partnership for Children office</span></div><div style="text-align: center">&nbsp\;<p class="MsoNormal" align="center" style="margin: 0in 0in 10pt\; text-align: center"><b style="mso-bidi-font-weight: normal"><span style="font-size: 12pt\; color: black\; line-height: 115%\; font-family: &quot\;Californian FB&quot\;\,&quot\;serif&quot\;\; mso-bidi-font-family: Arial">Pinwheels for Prevention<o:p></o:p></span></b></p><p class="MsoNormal" align="center" style="margin: 0in 0in 0pt\; text-align: center"><i style="mso-bidi-font-style: normal"><span style="font-size: 12pt\; color: black\; line-height: 115%\; font-family: &quot\;Californian FB&quot\;\,&quot\;serif&quot\;\; mso-bidi-font-family: Arial">Shining in the sun\, the pinwheel is reflective of the bright future ALL children deserve.<span style="mso-spacerun: yes">&nbsp\; </span><o:p></o:p></span></i></p><p class="MsoNormal" align="center" style="margin: 0in 0in 0pt\; text-align: center"><i style="mso-bidi-font-style: normal"><span style="font-size: 12pt\; color: black\; line-height: 115%\; font-family: &quot\;Californian FB&quot\;\,&quot\;serif&quot\;\; mso-bidi-font-family: Arial">It is our belief that getting it right early is less costly than trying to fix it later.<span style="mso-spacerun: yes">&nbsp\; </span><o:p></o:p></span></i></p><p class="MsoNormal" style="margin: 0in 0in 10pt"><span style="font-size: 12pt\; color: black\; line-height: 115%\; font-family: &quot\;Californian FB&quot\;\,&quot\;serif&quot\;\; mso-bidi-font-family: Arial"><o:p></o:p></span></p><p class="MsoNormal" style="margin: 0in 0in 10pt"><span style="font-size: 12pt\; color: black\; line-height: 115%\; font-family: &quot\;Californian FB&quot\;\,&quot\;serif&quot\;\; mso-bidi-font-family: Arial">In recognition of Child Abuse Prevention Month and the Month of the Young Child\, the Rockingham County Partnership for Children and Help\, Inc.: Center Against Violence will plant a Pinwheel Garden at the Partnership office.<span style="mso-spacerun: yes">&nbsp\; </span>The intention of the Pinwheel Garden is to raise awareness about the importance of play and positive parenting in the prevention of child abuse and neglect.<span style="mso-spacerun: yes">&nbsp\; </span>Promoting developmentally appropriate play and prioritizing prevention from the beginning of a child&rsquo\;s life can help prevent child abuse and neglect from ever occurring.<span style="mso-spacerun: yes">&nbsp\;&nbsp\; </span><o:p></o:p></span></p><p class="MsoNormal" style="margin: 0in 0in 10pt"><span style="font-size: 12pt\; color: black\; line-height: 115%\; font-family: &quot\;Californian FB&quot\;\,&quot\;serif&quot\;\; mso-bidi-font-family: Arial">To learn more about promoting play and preventing child abuse and neglect you can attend a Ribbon Cutting and Open House for our Pinwheel Garden a the Partnership for Children office on Thursday\, April 1<sup>st</sup> at 2pm.<span style="mso-spacerun: yes">&nbsp\; </span>Our office is located at 7572 NC Hwy 87\, Reidsville <o:p></o:p></span></p></div><div style="text-align: left"><span style="font-size: medium"><span style="font-size: small">&nbsp\;</span></span></div>
LOCATION:
UID:e.111.1347
SEQUENCE:3
DTSTAMP:20260424T152426Z
URL:https://business.reidsvillechamber.org/events/details/ribbon-cutting-open-house-for-the-pinwheel-garden-at-partnership-for-children-04-01-2010-1347
END:VEVENT

END:VCALENDAR
