BEGIN:VCALENDAR
VERSION:2.0
PRODID:-//ChamberMaster//Event Calendar 2.0//EN
METHOD:PUBLISH
X-PUBLISHED-TTL:P3D
REFRESH-INTERVAL:P3D
CALSCALE:GREGORIAN
BEGIN:VEVENT
DTSTART:20100823T210000Z
DTEND:20100823T230000Z
X-MICROSOFT-CDO-ALLDAYEVENT:FALSE
SUMMARY:Ribbon Cutting - Performance Spine & Sports Specialists\, PA
DESCRIPTION:Please join the Chamberas we welcomea new medical practice and member Shawn Dalton-Bethea\, MD\, Diplomate ABPM\, ABPMRPERFORMANCE SPINE & SPORTS SPECIALIST\, PA with a Ribbon Cutting and Open Houseon Monday\, August 23\, 20105:00 - 7:00 pm 520 Maple Avenue\, Suite AReidsville\, NC
X-ALT-DESC;FMTTYPE=text/html:<div style="text-align: center"><span style="font-size: medium">Please join the Chamber</span></div><div style="text-align: center"><span style="font-size: medium">as we welcome</span></div><div style="text-align: center"><span style="font-size: medium">a new medical practice and member</span></div><div style="text-align: center">&nbsp\;</div><div style="text-align: center"><span style="color: #ff0000"><em><span style="font-size: medium"><span style=""><span style="">Shawn Dalton-Bethea\, MD\,&nbsp\;Diplomate ABPM\, ABPMR</span></span></span></em></span></div><div style="text-align: center"><span style="color: #ff0000"><em><span style="font-size: medium"><span style="">PERFORMANCE&nbsp\;SPINE &amp\; SPORTS SPECIALIST\, PA</span></span></em></span></div><div style="text-align: center">&nbsp\;</div><div style="text-align: center"><span style="font-size: medium">with&nbsp\;a Ribbon Cutting and Open House</span></div><div style="text-align: center"><span style="font-size: medium">on Monday\, August 23\, 2010</span></div><div style="text-align: center"><span style="font-size: medium">5:00 - 7:00 pm</span></div><div style="text-align: center">&nbsp\;</div><div style="text-align: center"><span style="color: #ff0000"><span style="font-size: medium">520 Maple Avenue\, Suite A</span></span></div><div style="text-align: center"><span style="color: #ff0000"><span style="font-size: medium">Reidsville\, NC</span></span></div>
LOCATION:
UID:e.111.1491
SEQUENCE:3
DTSTAMP:20260424T065855Z
URL:https://business.reidsvillechamber.org/events/details/ribbon-cutting-performance-spine-sports-specialists-pa-08-23-2010-1491
END:VEVENT

END:VCALENDAR
