BEGIN:VCALENDAR
VERSION:2.0
PRODID:-//ChamberMaster//Event Calendar 2.0//EN
METHOD:PUBLISH
X-PUBLISHED-TTL:P3D
REFRESH-INTERVAL:P3D
CALSCALE:GREGORIAN
BEGIN:VEVENT
DTSTART:20110630T130000Z
DTEND:20110630T140000Z
X-MICROSOFT-CDO-ALLDAYEVENT:FALSE
SUMMARY:Ribbon Cutting @ Piedmont Triad Insurance
DESCRIPTION:Please join us for a ribbon cutting to help welcome one of Wentworth's newest businesses to the area.  Holly H. Copeland and staff would like to introduce you to her business and  their newly renovated office space.
X-ALT-DESC;FMTTYPE=text/html:Please join us for a ribbon cutting to help welcome one of Wentworth&#39\;s newest businesses to the area.&nbsp\; Holly H. Copeland and staff would like to introduce you to her business and&nbsp\; their newly renovated office space.
LOCATION:8420 NC HWY 87 Wentworth\, NC
UID:e.111.1948
SEQUENCE:3
DTSTAMP:20260423T152248Z
URL:https://business.reidsvillechamber.org/events/details/ribbon-cutting-piedmont-triad-insurance-06-30-2011-1948
END:VEVENT

END:VCALENDAR
