BEGIN:VCALENDAR
VERSION:2.0
PRODID:-//ChamberMaster//Event Calendar 2.0//EN
METHOD:PUBLISH
X-PUBLISHED-TTL:P3D
REFRESH-INTERVAL:P3D
CALSCALE:GREGORIAN
BEGIN:VEVENT
DTSTART:20100218T140000Z
DTEND:20100218T150000Z
X-MICROSOFT-CDO-ALLDAYEVENT:FALSE
SUMMARY:Ribbon Cutting-Protegrity Wealth Managment
DESCRIPTION:Ribbon CuttingProtegrity Wealth Managment311 S. Main Street9:00 a.m.Thursday February 18\, 2010Join us in welcoming Barbara Adams to her new Reidsville location
X-ALT-DESC;FMTTYPE=text/html:<div style="text-align: center"><span style="font-size: x-large"><span style="font-family: Comic Sans MS"><strong>Ribbon Cutting</strong></span></span></div><div style="text-align: center"><span style="font-size: x-large"><span style="font-family: Comic Sans MS"><strong>Protegrity Wealth Managment</strong></span></span></div><div style="text-align: center"><span style="font-size: x-large"><span style="font-family: Comic Sans MS"><strong>311 S. Main Street</strong></span></span></div><div style="text-align: center"><span style="font-size: x-large"><span style="font-family: Comic Sans MS"><strong>9:00 a.m.</strong></span></span></div><div style="text-align: center"><span style="font-size: x-large"><span style="font-family: Comic Sans MS"><strong>Thursday February 18\, 2010</strong></span></span></div><div style="text-align: center"><span style="font-size: x-large"><span style="font-family: Comic Sans MS"><strong><span style="font-size: medium">Join us in welcoming Barbara Adams to her new Reidsville location</span></strong></span></span></div>
LOCATION:
UID:e.111.1325
SEQUENCE:3
DTSTAMP:20260424T170101Z
URL:https://business.reidsvillechamber.org/events/details/ribbon-cutting-protegrity-wealth-managment-02-18-2010-1325
END:VEVENT

END:VCALENDAR
