BEGIN:VCALENDAR
VERSION:2.0
PRODID:-//ChamberMaster//Event Calendar 2.0//EN
METHOD:PUBLISH
X-PUBLISHED-TTL:P3D
REFRESH-INTERVAL:P3D
CALSCALE:GREGORIAN
BEGIN:VEVENT
DTSTART:20101207T160000Z
DTEND:20101207T170000Z
X-MICROSOFT-CDO-ALLDAYEVENT:FALSE
SUMMARY:Ribbon Cutting -- Reid's Kids
DESCRIPTION:Please come join us for a Ribbon Cutting\n\n	at Reid's Kids!\n\n	\n\n	Tuesday\, December 7th\n\n	 @ 11:00 a.m.\n\n	\n\n	 Located at:  131 S. Scales Street\, Reidsville\, NC 27320\n\n	(Downtown Reidsville)\n\n	\n\n	Please contact the Reidsville Chamber at (336) 349-8481 if you have any questions.
X-ALT-DESC;FMTTYPE=text/html:<p style="text-align: center\;">\n	<span style="font-size: 18px\;"><em>Please come join us for a<span style="color: rgb(175\, 238\, 238)\;"> </span><span style="color: rgb(0\, 0\, 255)\;">Ribbon Cutting</span></em><br />\n	at <span style="color: rgb(255\, 0\, 0)\;"><strong>Reid&#39\;s Kids</strong>!</span></span><br />\n	<br />\n	<strong><span style="font-size: 14px\;"><span style="background-color: rgb(255\, 255\, 0)\;">Tuesday\, December 7th</span><br />\n	<span style="background-color: rgb(255\, 255\, 0)\;"> @ 11:00 a.m.</span></span></strong><br />\n	<br />\n	<span style="font-size: 14px\;"> Located at:&nbsp\; 131 S. Scales Street\,</span><span style="font-size: 14px\;"> Reidsville\, NC 27320<br />\n	(<em><span style="font-weight: bold\;">Downtown Reidsville</span></em><strong>)</strong></span><br />\n	<br />\n	Please contact the Reidsville Chamber at <strong>(336) 349-8481</strong> if you have any questions.</p>\n
LOCATION:
UID:e.111.1549
SEQUENCE:3
DTSTAMP:20260424T004449Z
URL:https://business.reidsvillechamber.org/events/details/ribbon-cutting-reid-s-kids-12-07-2010-1549
END:VEVENT

END:VCALENDAR
