BEGIN:VCALENDAR
VERSION:2.0
PRODID:-//ChamberMaster//Event Calendar 2.0//EN
METHOD:PUBLISH
X-PUBLISHED-TTL:P3D
REFRESH-INTERVAL:P3D
CALSCALE:GREGORIAN
BEGIN:VEVENT
DTSTART:20120112T140000Z
DTEND:20120112T150000Z
X-MICROSOFT-CDO-ALLDAYEVENT:FALSE
SUMMARY:Ribbon Cutting-Relocation of H&R Block
DESCRIPTION:Please join us\n		\n			on Thursday January 12th\n		\n			for a Ribbon Cutting Ceremony\n		\n			and Relocation of\n		\n			 \n		\n			H&R Block\n		\n			9:00 am\n\n			\n\n			1700 Roswell Street\n\n			(Relocation from Freeway Drive)\n\n			\n\n			\n\n			Come celebrate 45 years of serving the Reidsville Area!!!
X-ALT-DESC;FMTTYPE=text/html:<div>\n	<div>\n		<div style="text-align: center\; ">\n			<span style="font-size: small\; ">Please join us</span></div>\n		<div style="text-align: center\; ">\n			<span style="font-size: small\; ">on Thursday January 12th</span></div>\n		<div style="text-align: center\; ">\n			<span style="font-size: small\; ">for a Ribbon Cutting Ceremony</span></div>\n		<div style="text-align: center\; ">\n			<span style="font-size: small\; ">and Relocation of</span></div>\n		<div style="text-align: center\; ">\n			&nbsp\;</div>\n		<div style="text-align: center\; ">\n			<font size="3">H&amp\;R Block</font></div>\n		<div style="text-align: center\; ">\n			<span style="font-size: small\; ">9:00 am<br />\n			<br />\n			1700 Roswell Street<br />\n			(Relocation from Freeway Drive)<br />\n			<br />\n			<br />\n			Come celebrate 45 years of serving the Reidsville Area!!!&nbsp\;</span></div>\n	</div>\n</div>\n
LOCATION:
UID:e.111.2121
SEQUENCE:3
DTSTAMP:20260421T162006Z
URL:https://business.reidsvillechamber.org/events/details/ribbon-cutting-relocation-of-h-r-block-01-12-2012-2121
END:VEVENT

END:VCALENDAR
