BEGIN:VCALENDAR
VERSION:2.0
PRODID:-//ChamberMaster//Event Calendar 2.0//EN
METHOD:PUBLISH
X-PUBLISHED-TTL:P3D
REFRESH-INTERVAL:P3D
CALSCALE:GREGORIAN
BEGIN:VEVENT
DTSTART;VALUE=DATE:20110722
DTEND;VALUE=DATE:20110723
TRANSP:TRANSPARENT
X-MICROSOFT-CDO-ALLDAYEVENT:TRUE
SUMMARY:Ribbon Cutting- Round About Way
DESCRIPTION:Please comeout to support one of our newest Chamber Members at its Ribbon Cutting!
X-ALT-DESC;FMTTYPE=text/html:Please comeout to support one of our newest Chamber Members at its Ribbon Cutting!
LOCATION:101 S. Scales Street @ 9:00 a.m
UID:e.111.1952
SEQUENCE:3
DTSTAMP:20260423T134527Z
URL:https://business.reidsvillechamber.org/events/details/ribbon-cutting-round-about-way-07-22-2011-1952
END:VEVENT

END:VCALENDAR
