BEGIN:VCALENDAR
VERSION:2.0
PRODID:-//ChamberMaster//Event Calendar 2.0//EN
METHOD:PUBLISH
X-PUBLISHED-TTL:P3D
REFRESH-INTERVAL:P3D
CALSCALE:GREGORIAN
BEGIN:VEVENT
DTSTART:20150219T163000Z
DTEND:20150219T173000Z
X-MICROSOFT-CDO-ALLDAYEVENT:FALSE
SUMMARY:Ribbon Cutting - Sears of Reidsville
DESCRIPTION:Join the Chamber for a Ribbon Cutting at\n\nSears of Reidsville \n\n\n\nLight Refreshments Will Be Served\n\n\n\n11:30 AM\, Thursday\, February 19th\, 2015\n\n\n\nSears of Reidsville\n1573 Freeway Drive\n\nReidsville\, NC 27320\n\n(336) 634-0300
X-ALT-DESC;FMTTYPE=text/html:<p style="text-align: center">Join the Chamber for a Ribbon Cutting at<br />\n<strong>Sears of Reidsville</strong>&nbsp\;<br />\n<br />\nLight Refreshments Will Be Served<br />\n<br />\n<strong>11:30 AM\, Thursday\, February&nbsp\;19th\, 2015</strong></p>\n\n<div class="txtHeading" style="font-weight: bold\; font-size: 14px\; color: rgb(0\, 0\, 0)\; font-family: Arial\, Helvetica\, 'MS Sans Serif'\, sans-serif\; text-align: center\;">\n<div class="txtHeading" style="font-weight: bold\; font-size: 14px\; color: rgb(0\, 0\, 0)\; font-family: Arial\, Helvetica\, 'MS Sans Serif'\, sans-serif\; line-height: normal\;">\n<div class="txtHeading" style="font-weight: bold\; font-size: 14px\; color: rgb(0\, 0\, 0)\; font-family: Arial\, Helvetica\, 'MS Sans Serif'\, sans-serif\; line-height: normal\;"><span style="font-size:16px\;">Sears of Reidsville</span></div>\n<span style="font-size:14px\;"><span style="color: rgb(0\, 0\, 0)\; font-family: Arial\, Helvetica\, 'MS Sans Serif'\, sans-serif\; line-height: normal\;">1573 Freeway Drive</span><br style="color: rgb(0\, 0\, 0)\; font-family: Arial\, Helvetica\, 'MS Sans Serif'\, sans-serif\; font-size: 11px\; line-height: normal\;" />\n<span style="color: rgb(0\, 0\, 0)\; font-family: Arial\, Helvetica\, 'MS Sans Serif'\, sans-serif\; line-height: normal\;">Reidsville\, NC 27320</span><br style="color: rgb(0\, 0\, 0)\; font-family: Arial\, Helvetica\, 'MS Sans Serif'\, sans-serif\; font-size: 11px\; line-height: normal\;" />\n<span style="color: rgb(0\, 0\, 0)\; font-family: Arial\, Helvetica\, 'MS Sans Serif'\, sans-serif\; line-height: normal\;">(336) 634-0300</span></span></div>\n</div>\n
LOCATION:
UID:e.111.3033
SEQUENCE:3
DTSTAMP:20260420T142407Z
URL:https://business.reidsvillechamber.org/events/details/ribbon-cutting-sears-of-reidsville-02-19-2015-3033
END:VEVENT

END:VCALENDAR
