BEGIN:VCALENDAR
VERSION:2.0
PRODID:-//ChamberMaster//Event Calendar 2.0//EN
METHOD:PUBLISH
X-PUBLISHED-TTL:P3D
REFRESH-INTERVAL:P3D
CALSCALE:GREGORIAN
BEGIN:VEVENT
DTSTART:20100519T153000Z
DTEND:20100519T160000Z
X-MICROSOFT-CDO-ALLDAYEVENT:FALSE
SUMMARY:Ribbon Cutting - The Cat's Meow
DESCRIPTION:Join the Reidsville Chamber of Commerceas we welcomeThe Cat's Meowwith a Ribbon Cutting Ceremony &Refreshmentson May 19that 11:30 am The Cat's Meow is located at 1981 US Bus 29 (next to DP Cars & Trucks) andoffers beautiful and unique gifts at affordable prices. They are also the local distributor for the Yankee Candle Co.
X-ALT-DESC;FMTTYPE=text/html:<div style="text-align: center"><span style="font-size: medium">Join the Reidsville Chamber of Commerce</span></div><div style="text-align: center"><span style="font-size: small">as we welcome</span></div><div style="text-align: center"><span style="color: #0000ff"><span style="font-size: large">The Cat&rsquo\;s Meow</span></span></div><div style="text-align: center"><span style="font-size: medium">with a Ribbon Cutting Ceremony &amp\;</span></div><div style="text-align: center"><span style="font-size: medium">Refreshments</span></div><div style="text-align: center"><span style="font-size: small">on May 19th</span></div><div style="text-align: center"><span style="font-size: small">at 11:30 am</span></div><div style="text-align: center">&nbsp\;</div><div style="text-align: center"><span style="font-size: small">The Cat's Meow is located at 1981 US Bus 29 (next to DP Cars &amp\; Trucks) and</span></div><div style="text-align: center"><span style="font-size: small">offers beautiful and unique gifts at affordable prices.</span></div><div style="text-align: center">&nbsp\;</div><div style="text-align: center"><span style="font-size: small">They are also the local distributor for the Yankee Candle Co.</span></div>
LOCATION:
UID:e.111.1384
SEQUENCE:3
DTSTAMP:20260424T132402Z
URL:https://business.reidsvillechamber.org/events/details/ribbon-cutting-the-cat-s-meow-05-19-2010-1384
END:VEVENT

END:VCALENDAR
