BEGIN:VCALENDAR
VERSION:2.0
PRODID:-//ChamberMaster//Event Calendar 2.0//EN
METHOD:PUBLISH
X-PUBLISHED-TTL:P3D
REFRESH-INTERVAL:P3D
CALSCALE:GREGORIAN
BEGIN:VEVENT
DTSTART:20141112T153000Z
DTEND:20141112T163000Z
X-MICROSOFT-CDO-ALLDAYEVENT:FALSE
SUMMARY:Ribbon Cutting - The Donut House
DESCRIPTION:Join the Chamber for a Ribbon Cutting\n\nto Welcome The Donut House to Reidsville!!!!\n\n\n\nLight Refreshments Will Be Served!\n\n\n\nSee What The Donut House Has To Offer!!\n\n\n\n10:30 AM\, Wednesday\, November 12th\, 2014\n\n\n\nThe Donut House\n1130A Freeway Drive\n\nReidsville\, NC 27320\n\n(336) 908-8732
X-ALT-DESC;FMTTYPE=text/html:<p style="text-align: center">Join the Chamber for a Ribbon Cutting<br />\nto Welcome The Donut House to&nbsp\;Reidsville!!!!<br />\n<br />\nLight Refreshments Will Be Served!<br />\n<br />\nSee What The Donut House Has To Offer!!<br />\n<br />\n<strong>10:30 AM\, Wednesday\, November 12th\, 2014</strong></p>\n\n<div class="txtHeading" style="font-weight: bold\; font-size: 14px\; color: rgb(0\, 0\, 0)\; font-family: Arial\, Helvetica\, 'MS Sans Serif'\, sans-serif\; text-align: center\;">\n<div class="txtHeading" style="font-weight: bold\; font-size: 14px\; color: rgb(0\, 0\, 0)\; font-family: Arial\, Helvetica\, 'MS Sans Serif'\, sans-serif\; line-height: normal\;">\n<div class="txtHeading" style="font-weight: bold\; font-size: 14px\; color: rgb(0\, 0\, 0)\; font-family: Arial\, Helvetica\, 'MS Sans Serif'\, sans-serif\; line-height: normal\;"><span style="font-size:14px\;"><span style="font-family:verdana\;">The Donut House</span></span></div>\n<span style="font-size:14px\;"><span style="font-family:verdana\;"><span style="color: rgb(0\, 0\, 0)\; line-height: normal\;">1130A Freeway Drive</span><br style="color: rgb(0\, 0\, 0)\; font-family: Arial\, Helvetica\, 'MS Sans Serif'\, sans-serif\; font-size: 11px\; line-height: normal\;" />\n<span style="color: rgb(0\, 0\, 0)\; line-height: normal\;">Reidsville\, NC 27320</span><br style="color: rgb(0\, 0\, 0)\; font-family: Arial\, Helvetica\, 'MS Sans Serif'\, sans-serif\; font-size: 11px\; line-height: normal\;" />\n<span style="color: rgb(0\, 0\, 0)\; line-height: normal\;">(336) 908-8732</span></span></span></div>\n</div>\n
LOCATION:
UID:e.111.2955
SEQUENCE:3
DTSTAMP:20260422T162334Z
URL:https://business.reidsvillechamber.org/events/details/ribbon-cutting-the-donut-house-11-12-2014-2955
END:VEVENT

END:VCALENDAR
