BEGIN:VCALENDAR
VERSION:2.0
PRODID:-//ChamberMaster//Event Calendar 2.0//EN
METHOD:PUBLISH
X-PUBLISHED-TTL:P3D
REFRESH-INTERVAL:P3D
CALSCALE:GREGORIAN
BEGIN:VEVENT
DTSTART:20110218T160000Z
DTEND:20110218T163000Z
X-MICROSOFT-CDO-ALLDAYEVENT:FALSE
SUMMARY:Ribbon Cutting @ THE VAULT RESTAURANT
DESCRIPTION:Please come join us for a Ribbon Cutting at\n\n	\n\n	The Vault Restaurant\n\n	\n\n	Friday\, February 18th\n\n	@ 11:00 a.m.\n\n	\n\n	http://eatatthevault.com/\n\n	\n\n	(336) 634-1405\n\n	\n\n	Located at: 100 South Scales Street\n\n	Downtown Reidsville\, NC\n\n	\n\n	Please contact the Reidsville Chamber at (336) 349-8481 if you have any questions.
X-ALT-DESC;FMTTYPE=text/html:<p style="text-align: center">\n	<br />\n	<span style="font-size: 14px"><strong><em>Please come join us for a <span style="color: rgb(0\,0\,255)">Ribbon Cutting</span> at<br />\n	<br />\n	<span style="font-size: 26px"><span style="color: rgb(178\,34\,34)">The Vault Restaurant</span></span></em></strong></span><br />\n	<br />\n	<strong><span style="font-size: 14px"><span style="background-color: rgb(255\,255\,0)">Friday\, February 18th</span><br />\n	<span style="background-color: rgb(255\,255\,0)">@ 11:00 a.m.</span></span></strong><br />\n	<br />\n	http://eatatthevault.com/<br />\n	<br />\n	(336) 634-1405<br />\n	<br />\n	<strong>Located </strong><font color="#ffffff"><b><font color="#000000"><strong>at: </strong></font></b><font color="#000000">100 South Scales Street</font></font><br />\n	Downtown Reidsville\, NC<br />\n	<br />\n	Please contact the Reidsville Chamber at <strong>(336) 349-8481</strong> if you have any questions.</p>\n
LOCATION:
UID:e.111.1594
SEQUENCE:3
DTSTAMP:20260423T213043Z
URL:https://business.reidsvillechamber.org/events/details/ribbon-cutting-the-vault-restaurant-02-18-2011-1594
END:VEVENT

END:VCALENDAR
