BEGIN:VCALENDAR
VERSION:2.0
PRODID:-//ChamberMaster//Event Calendar 2.0//EN
METHOD:PUBLISH
X-PUBLISHED-TTL:P3D
REFRESH-INTERVAL:P3D
CALSCALE:GREGORIAN
BEGIN:VEVENT
DTSTART:20101202T163000Z
DTEND:20101202T173000Z
X-MICROSOFT-CDO-ALLDAYEVENT:FALSE
SUMMARY:Ribbon Cutting -- YON-O Express
DESCRIPTION:Please come join us for a Ribbon Cutting\n\n	at YON-O Express!\n\n	\n\n	Thursday\, December 2nd\n\n	 @ 11:30 a.m.\n\n	\n\n	 Located at:  1519 S. Scales Street\, Reidsville\, NC 27320\n\n	(the former location of Hardee's on Scales St. by Pennrose Mall)\n\n	\n\n	Please contact the Reidsville Chamber at (336) 349-8481 if you have any questions.
X-ALT-DESC;FMTTYPE=text/html:<p style="text-align: center\;">\n	<span style="font-size: 18px\;"><em>Please come join us for a<span style="color: rgb(175\, 238\, 238)\;"> </span><span style="color: rgb(0\, 0\, 205)\;">Ribbon Cutting</span></em><br />\n	at <span style="color: rgb(255\, 165\, 0)\;"><strong>YON-O Express</strong>!</span></span><br />\n	<br />\n	<strong><span style="font-size: 14px\;"><span style="background-color: rgb(255\, 255\, 0)\;">Thursday\, December 2nd</span><br />\n	<span style="background-color: rgb(255\, 255\, 0)\;"> @ 11:30 a.m.</span></span></strong><br />\n	<br />\n	<span style="font-size: 14px\;"> Located at:&nbsp\; 1519 S. Scales Street\,</span><span style="font-size: 14px\;"> Reidsville\, NC 27320<br />\n	(<em>the<strong> former location of Hardee&#39\;s on Scales St. by Pennrose Mall</strong></em>)</span><br />\n	<br />\n	Please contact the Reidsville Chamber at <strong>(336) 349-8481</strong> if you have any questions.</p>\n
LOCATION:
UID:e.111.1547
SEQUENCE:3
DTSTAMP:20260424T004309Z
URL:https://business.reidsvillechamber.org/events/details/ribbon-cutting-yon-o-express-12-02-2010-1547
END:VEVENT

END:VCALENDAR
