BEGIN:VCALENDAR
VERSION:2.0
PRODID:-//ChamberMaster//Event Calendar 2.0//EN
METHOD:PUBLISH
X-PUBLISHED-TTL:P3D
REFRESH-INTERVAL:P3D
CALSCALE:GREGORIAN
BEGIN:VEVENT
DTSTART:20091217T180000Z
DTEND:20091217T220000Z
X-MICROSOFT-CDO-ALLDAYEVENT:FALSE
SUMMARY:Ribbon Cutting-Youth Haven Services\, Inc
DESCRIPTION:Youth Haven Services\, IncRibbon Cutting & Open HouseThursday\, December 17th1:00 Ribbon Cutting1:00-5:00 p.m. Open House Join us in celebrating the opening of our new Day Treatment Facility 7921 US Hwy 158 West(across from Faith Baptist Church & just pass Evergreen Cemetery)
X-ALT-DESC;FMTTYPE=text/html:<div style="text-align: center"><strong><span style="font-family: Comic Sans MS"><span style="font-size: medium">Youth Haven Services\, Inc</span></span></strong></div><div style="text-align: center"><span style="font-family: Comic Sans MS"><strong><span style="color: #ff0000"><span style="font-size: medium">Ribbon Cutting &amp\; Open House</span></span></strong></span></div><div style="text-align: center"><span style="font-family: Comic Sans MS"><strong><span style="color: #ff0000"><span style="font-size: medium">Thursday\, December 17th</span></span></strong></span></div><div style="text-align: center"><span style="font-family: Comic Sans MS"><strong><span style="color: #ff0000"><span style="font-size: medium">1:00 Ribbon Cutting</span></span></strong></span></div><div style="text-align: center"><span style="font-family: Comic Sans MS"><strong><span style="color: #ff0000"><span style="font-size: medium">1:00-5:00 p.m. Open House</span></span></strong></span></div><div style="text-align: center">&nbsp\;</div><div style="text-align: center"><span style="font-size: medium">Join us in celebrating the opening </span><span style="font-size: medium"><span style="">of our new</span></span><span style="font-size: large"><span><span> </span></span></span></div><div style="text-align: center"><span style="font-size: large"><span><span>Day Treatment Facility</span></span></span></div><div style="text-align: center">&nbsp\;</div><div style="text-align: center"><span style="font-size: medium">7921 US&nbsp\;Hwy 158 West</span></div><div style="text-align: center"><span style="font-size: small"><span>(across from Faith Baptist Church &amp\; just pass Evergreen Cemetery)</span></span></div>
LOCATION:
UID:e.111.1283
SEQUENCE:3
DTSTAMP:20260424T202101Z
URL:https://business.reidsvillechamber.org/events/details/ribbon-cutting-youth-haven-services-inc-12-17-2009-1283
END:VEVENT

END:VCALENDAR
