BEGIN:VCALENDAR
VERSION:2.0
PRODID:-//ChamberMaster//Event Calendar 2.0//EN
METHOD:PUBLISH
X-PUBLISHED-TTL:P3D
REFRESH-INTERVAL:P3D
CALSCALE:GREGORIAN
BEGIN:VEVENT
DTSTART:20100206T140000Z
DTEND:20100209T233000Z
X-MICROSOFT-CDO-ALLDAYEVENT:FALSE
SUMMARY:Robin Hood Auditions for TGRC Children's Theatre
DESCRIPTION:Auditions are open to all children ages 8-14\n\nRobin Hood\, the outlaw of Sherwood Forest\, leads a merry life with his followers. The citizens of the forest oppose wicked Prince John. He's taken the place of King Richard the Lion-Hearted. One day a caravan cuts through the wood. In the convoy is Robin's childhood sweetheart\, Maid Marian\, ward of King Richard. Alas\, the evil Lady Merle of Cornwall plans to force Marian to marry the Prince in an effort to make John more acceptable to the people of England. To arms! It's up to Robin to stop the marriage\, defeat a nasty sheriff and secure Nottingham for the King's return.\n \nShow Dates:            Fri. March 19th - 7:30 PM\n                       Sat. March 20th - 10:30 AM  \n\npeople at the fair\, soldiers. As/if desired. *Can also play a SOLDIER (county fair scene\; Act One\, Scene 2). "Can also play STRANGER (King Richard).
X-ALT-DESC;FMTTYPE=text/html:Auditions are open to all children ages 8-14\n\nRobin Hood\, the outlaw of Sherwood Forest\, leads a merry life with his followers. The citizens of the forest oppose wicked Prince John. He's taken the place of King Richard the Lion-Hearted. One day a caravan cuts through the wood. In the convoy is Robin's childhood sweetheart\, Maid Marian\, ward of King Richard. Alas\, the evil Lady Merle of Cornwall plans to force Marian to marry the Prince in an effort to make John more acceptable to the people of England. To arms! It's up to Robin to stop the marriage\, defeat a nasty sheriff and secure Nottingham for the King's return.\n \nShow Dates:            Fri. March 19th - 7:30 PM\n                       Sat. March 20th - 10:30 AM & 7:30 PM\n                       Sun. March 21st - 2:30 PM\n                      Auditions\nPlease bring a prepared\, memorized monologue\, no longer than 45 seconds in length.  This is NOT a musical so no song is required.  NOT everyone will be asked to read from the script.  THIS DOES NOT MEAN YOU WON'T BE CAST!  Be sure to show character when reciting your monologue.  Since not everyone will be reading\, this may be your only chance to show the Director your character and personality.  Please note\, there are only 16 speaking roles however\, there will be many openings for ensemble (Robin's band\, people at fair\, townsfolk\, soldiers)  *This show will need a lot of boys.*\n \nCAST OF CHARACTERS\n(In Order Of Appearance)\n\n\n\nBETH member of Robin Hood's merry band\n\nMOTHER MEG another\n\nLITTLE JOHN another\n\nOLD WIDOW victim of Sheriff\n\nWILL SCARLET another of Robin's band\n\nROBIN HOOD outlaw of Sherwood Forest\n\nFRIAR TUCK another follower\, a monk\n\nSOLDIER #1 in the service of the Sheriff\n\nSHERIFF of Nottingham\n\nLADY MERLE in league with evil Prince John\n\nANNABEL servant to Maid Marian\n\nMAID MARIAN ward of King Richard\n\nSOLDIER #2 (KASPAR) also in the service of the Sheriff\n\nSHERIFF'S WIFE a clumsy social climber\n\nSALOME her silly daughter\n\nSTRANGER journeying through Nottingham\n\nOPTIONAL EXTRAS: additional members of Robin's band\;\n\npeople at the fair\, soldiers. As/if desired. *Can also play a SOLDIER (county fair scene\; Act One\, Scene 2). "Can also play STRANGER (King Richard). \n\n \n\n
LOCATION:RCC Advanced Technologies Building Auditorium
UID:e.111.1318
SEQUENCE:3
DTSTAMP:20260424T170512Z
URL:https://business.reidsvillechamber.org/events/details/robin-hood-auditions-for-tgrc-children-s-theatre-02-06-2010-1318
END:VEVENT

END:VCALENDAR
