BEGIN:VCALENDAR
VERSION:2.0
PRODID:-//ChamberMaster//Event Calendar 2.0//EN
METHOD:PUBLISH
X-PUBLISHED-TTL:P3D
REFRESH-INTERVAL:P3D
CALSCALE:GREGORIAN
BEGIN:VEVENT
DTSTART;VALUE=DATE:20091114
DTEND;VALUE=DATE:20091115
TRANSP:TRANSPARENT
X-MICROSOFT-CDO-ALLDAYEVENT:TRUE
SUMMARY:Rockingham & Caswell Small Farm Day
DESCRIPTION:Rockingham County Cooperative Extension presents theRockingham and Caswell Counties Small Farm Day Sponsored by NC Cooperative Extensioin Pre-registration required by Nov. 7Call 336-342-8230kathryn_holmes@ncsu.edu Location:  Rockingham county Agricultural Center525 NC Hwy 65Reidsville\, NC  Saturday\, November 14\, 20098:00 a.m.- 4:00 p.m. Are you or a family member thinking about starting or expanding a small-scale farm operation?Would you like to learn about agricultural enterprsese that can help you meet your personal or business goals?Would you like the chance to network and ask questions of successful producers and NC agrictulure personnel? If so\, you are invited to attend the Rockingham anc Caswell Counties Small Farm Day  program.
X-ALT-DESC;FMTTYPE=text/html:<div style="text-align: center"><span style="font-size: medium">Rockingham County Cooperative Extension </span></div><div style="text-align: center"><span style="font-size: medium">presents the</span></div><div style="text-align: center"><span style="font-size: medium">Rockingham and Caswell Counties Small Farm Day</span></div><div style="text-align: center">&nbsp\;</div><div style="text-align: center"><span style="font-size: medium">Sponsored by NC Cooperative Extensioin</span></div><div style="text-align: center">&nbsp\;</div><div style="text-align: center"><span style="font-size: medium"><span style="font-size: smaller">Pre-registration required by Nov. 7</span></span></div><div style="text-align: center"><span style="font-size: medium"><span style="font-size: smaller">Call 336-342-8230</span></span></div><div style="text-align: center"><span style="font-size: medium"><span style="font-size: smaller"><a href="mailto:kathryn_holmes@ncsu.edu">kathryn_holmes@ncsu.edu</a></span></span></div><div style="text-align: center">&nbsp\;</div><div style="text-align: center">Location:&nbsp\; Rockingham county Agricultural Center</div><div style="text-align: center">525 NC Hwy 65</div><div style="text-align: center">Reidsville\, NC&nbsp\;</div><div style="text-align: center">&nbsp\;</div><div style="text-align: center">Saturday\, November 14\, 2009</div><div style="text-align: center">8:00 a.m.- 4:00 p.m.</div><div style="text-align: center">&nbsp\;</div><div style="text-align: center">Are you or a family member thinking about starting or expanding a small-scale farm operation?</div><div style="text-align: center">Would you like to learn about agricultural enterprsese that can help you meet your personal or business goals?</div><div style="text-align: center">Would you like the chance to network and ask questions of successful producers and NC agrictulure personnel?</div><div style="text-align: center">&nbsp\;</div><div style="text-align: center">If so\, you are invited to attend the <strong><em>Rockingham anc Caswell Counties Small Farm Day</em></strong>&nbsp\; program.</div><div style="text-align: center">&nbsp\;</div>
LOCATION:
UID:e.111.1267
SEQUENCE:3
DTSTAMP:20260424T220835Z
URL:https://business.reidsvillechamber.org/events/details/rockingham-caswell-small-farm-day-11-14-2009-1267
END:VEVENT

END:VCALENDAR
