BEGIN:VCALENDAR
VERSION:2.0
PRODID:-//ChamberMaster//Event Calendar 2.0//EN
METHOD:PUBLISH
X-PUBLISHED-TTL:P3D
REFRESH-INTERVAL:P3D
CALSCALE:GREGORIAN
BEGIN:VEVENT
DTSTART:20111212T180000Z
DTEND:20111212T193000Z
X-MICROSOFT-CDO-ALLDAYEVENT:FALSE
SUMMARY:Rockingham County Alzheimer's Support Group
DESCRIPTION:The Penn Nursing Center hosts a countywide Alzheimer's support group on Monday\, December 12\, from 1-2:30 pm. in the South Day Room of the center. Family\, friends\, and caregivers of individuals with Alzheimer's are invited to attend. The group meets on a monthly basis on the 2nd Monday of each month. For more information\, please call 951-4674\, or 951-6034.
X-ALT-DESC;FMTTYPE=text/html:<span style="font-size: 10pt\; font-family: calibri\; mso-fareast-font-family: 'times new roman'\; mso-bidi-font-family: 'times new roman'\; mso-ansi-language: en-us\; mso-fareast-language: en-us\; mso-bidi-language: ar-sa"><font color="#000000" face="Times New Roman">The Penn Nursing Center hosts a countywide Alzheimer&rsquo\;s support group on <b>Monday\, December 12\,</b> from 1-2:30 pm. in the South Day Room of the center. Family\, friends\, and caregivers of individuals with Alzheimer&rsquo\;s are invited to attend. The group meets on a monthly basis on the 2<sup>nd</sup> Monday of each month. For more information\, please call 951-4674\, or 951-6034.</font></span>
LOCATION:Annie Penn Hospital
UID:e.111.2072
SEQUENCE:3
DTSTAMP:20260421T192644Z
URL:https://business.reidsvillechamber.org/events/details/rockingham-county-alzheimer-s-support-group-12-12-2011-2072
END:VEVENT

END:VCALENDAR
