BEGIN:VCALENDAR
VERSION:2.0
PRODID:-//ChamberMaster//Event Calendar 2.0//EN
METHOD:PUBLISH
X-PUBLISHED-TTL:P3D
REFRESH-INTERVAL:P3D
CALSCALE:GREGORIAN
BEGIN:VEVENT
DTSTART:20111111T180000Z
DTEND:20111112T220000Z
X-MICROSOFT-CDO-ALLDAYEVENT:FALSE
SUMMARY:Rockingham County Artist Studio Tour
DESCRIPTION:Tickets are available now\, $5.00 each and the ticket purchase goes to support the expenses for this first-time event\, registers the purchaser for our raffle drawing- that includes a savings bond from Home Savings\, donated art by local artists\, books by our local Rockingham County authors and gift baskets from local businesses. (Wonderful to have so much community support).\n\nAs always\, your donations to the Arts Council are tax-deductible and support the Arts in Rockingham!\n\n\n\nLocations for ticket purchases are currently the Dan River Art Market & Gallery\, Reidsville Chamber of Commerce\,  Eden Chamber of Commerce\, Tom Barbour Photography and Madison Dry Goods\n\n\n\nClick Here for more information\n\n\n\n\n\nc .
X-ALT-DESC;FMTTYPE=text/html:Tickets are available now\, $5.00 each and the ticket purchase goes to support the expenses for this first-time event\, registers the purchaser for our raffle drawing- that includes a savings bond from Home Savings\, donated art by local artists\, books by our local Rockingham County authors and gift baskets from local businesses. (Wonderful to have so much community support).<br />\nAs always\, your donations to the Arts Council are tax-deductible and support the Arts in <span class="yshortcuts" id="lw_1320403329_3">Rockingham</span>!<br />\n<br />\nLocations for ticket purchases are currently the Dan River Art Market &amp\; Gallery\, Reidsville Chamber of Commerce\, &nbsp\;Eden Chamber of Commerce\, Tom Barbour Photography and <span class="yshortcuts" id="lw_1320403329_4">Madison</span> Dry Goods<br />\n<br />\n<a href="http://cloud.chambermaster.com/userfiles/UserFiles/chambers/111/File/Arts%20Council%20--%20PRESS%20RELEASE.doc">Click Here for more information</a><br />\n<br />\n<br />\n<span _fck_bookmark="1" style="display: none">c&nbsp\;.</span>
LOCATION:
UID:e.111.2066
SEQUENCE:3
DTSTAMP:20260421T192759Z
URL:https://business.reidsvillechamber.org/events/details/rockingham-county-artist-studio-tour-11-11-2011-2066
END:VEVENT

END:VCALENDAR
