BEGIN:VCALENDAR
VERSION:2.0
PRODID:-//ChamberMaster//Event Calendar 2.0//EN
METHOD:PUBLISH
X-PUBLISHED-TTL:P3D
REFRESH-INTERVAL:P3D
CALSCALE:GREGORIAN
BEGIN:VEVENT
DTSTART:20150112T200000Z
DTEND:20150112T213000Z
X-MICROSOFT-CDO-ALLDAYEVENT:FALSE
SUMMARY:Rockingham County Arts Council Dulcimer Class
DESCRIPTION:The Rockingham County Arts Council\n\nis hosting its first Dulcimer Class!
X-ALT-DESC;FMTTYPE=text/html:<div style="text-align: center\;">The Rockingham County Arts Council<br />\nis hosting its first Dulcimer Class!</div>\n
LOCATION:
UID:e.111.2991
SEQUENCE:3
DTSTAMP:20260422T125335Z
URL:https://business.reidsvillechamber.org/events/details/rockingham-county-arts-council-dulcimer-class-01-12-2015-2991
END:VEVENT

END:VCALENDAR
