BEGIN:VCALENDAR
VERSION:2.0
PRODID:-//ChamberMaster//Event Calendar 2.0//EN
METHOD:PUBLISH
X-PUBLISHED-TTL:P3D
REFRESH-INTERVAL:P3D
CALSCALE:GREGORIAN
BEGIN:VEVENT
DTSTART:20141206T150000Z
DTEND:20141206T220000Z
X-MICROSOFT-CDO-ALLDAYEVENT:FALSE
SUMMARY:Rockingham County Arts Council Holiday Open House!
DESCRIPTION:Celebrate the Holidays & creativity in Rockingham County!\n\nJoin us Saturday\, December 7\, 10:00AM-5:00PM!\n\nLive music\, arts & crafts\, handmade gifts\, CDs\, local author's books and more!\n\n\n\n11:00AM-12:00PM - Live music with Chords & Strings!\n\n12:00PM-1:00PM - Live music with Happy Sounds!\n\n1:00PM-3:00PM - Make your own ornament for the holiday!\n\n\n\nEnjoy light refreshments\, find gifts and enjoy our current exhibit of artwork by Leigh Rodenbough\, one of Rockingham County's treasured artists.
X-ALT-DESC;FMTTYPE=text/html:<div style="text-align: center\;">Celebrate the Holidays &amp\; creativity in Rockingham County!<br />\nJoin us Saturday\, December 7\, 10:00AM-5:00PM!<br />\nLive music\, arts &amp\; crafts\, handmade gifts\, CDs\, local author&#39\;s books and more!<br />\n<br />\n11:00AM-12:00PM - Live music with Chords &amp\; Strings!<br />\n12:00PM-1:00PM - Live music with Happy Sounds!<br />\n1:00PM-3:00PM -&nbsp\;Make your own ornament for the holiday!<br />\n<br />\nEnjoy light refreshments\, find gifts and enjoy our current exhibit of artwork by Leigh Rodenbough\, one of Rockingham County&#39\;s treasured artists.</div>\n
LOCATION:Dan River Art Market & Gallery 1122 NC Hwy 65\, Wentworth\, NC 27375 336-349-4039
UID:e.111.2985
SEQUENCE:3
DTSTAMP:20260422T144240Z
URL:https://business.reidsvillechamber.org/events/details/rockingham-county-arts-council-holiday-open-house-12-06-2014-2985
END:VEVENT

END:VCALENDAR
