BEGIN:VCALENDAR
VERSION:2.0
PRODID:-//ChamberMaster//Event Calendar 2.0//EN
METHOD:PUBLISH
X-PUBLISHED-TTL:P3D
REFRESH-INTERVAL:P3D
CALSCALE:GREGORIAN
BEGIN:VEVENT
DTSTART:20120421T121500Z
DTEND:20120421T160000Z
X-MICROSOFT-CDO-ALLDAYEVENT:FALSE
SUMMARY:Rockingham County GO FAR 5K and 1-Mile Fun Run
DESCRIPTION:Rockingham County Partnership for Children Presents the\n\n	GO FAR 5K and 1-Mile Fun Run!!\n\n	 \n\n	See Flyer For Details\n\n	Click Here
X-ALT-DESC;FMTTYPE=text/html:<p style="text-align: center">\n	Rockingham County Partnership for Children Presents the<br />\n	GO FAR 5K and 1-Mile Fun Run!!<br />\n	&nbsp\;<a href="http://cloud.chambermaster.com/userfiles/UserFiles/chambers/111/File/GOFARposter2012.jpg"><br />\n	See Flyer For Details<br />\n	Click Here</a></p>\n
LOCATION:Reidsville High School 1901 South Park Drive
UID:e.111.2185
SEQUENCE:3
DTSTAMP:20260421T130811Z
URL:https://business.reidsvillechamber.org/events/details/rockingham-county-go-far-5k-and-1-mile-fun-run-04-21-2012-2185
END:VEVENT

END:VCALENDAR
