BEGIN:VCALENDAR
VERSION:2.0
PRODID:-//ChamberMaster//Event Calendar 2.0//EN
METHOD:PUBLISH
X-PUBLISHED-TTL:P3D
REFRESH-INTERVAL:P3D
CALSCALE:GREGORIAN
BEGIN:VEVENT
DTSTART;VALUE=DATE:20110924
DTEND;VALUE=DATE:20110925
TRANSP:TRANSPARENT
X-MICROSOFT-CDO-ALLDAYEVENT:TRUE
SUMMARY:Rockingham County Living and Aging Well Expo " Arm Yourself with Good Health"
DESCRIPTION:The Rockingham County Living and Aging Expo is a FREE event geared towards older adults\, people who care for older adults\, and anyone planning on getting older one day.  The focus of the Expo will be both fun and educational. "Arm Yourself with Good Health" will be the topic this year. There will be health screenings\, educational speakers on topics that will include\, Nutrition and Diabetic Management\, Medicare and Fraud\, Stroke Awarness and Fall Prevention\, Alzheimers Awareness and Making Your Wishes Known. We will also have entertainment\, bingo\, door prizes and lunch for seniors ( 55 and older). Transportation will also be provided by RCATS from the Courthouse to the event.
X-ALT-DESC;FMTTYPE=text/html:The Rockingham County Living and Aging Expo is a&nbsp\;FREE event geared towards older adults\, people who care for older adults\, and anyone planning on getting older one day.&nbsp\; The focus of the Expo will be both fun and educational. &quot\;Arm Yourself with Good Health&quot\; will be the topic this year. There will be health screenings\, educational speakers on topics that will include\, Nutrition and Diabetic Management\, Medicare and Fraud\, Stroke Awarness and Fall Prevention\,&nbsp\;Alzheimers Awareness and Making Your Wishes Known. We will also have entertainment\, bingo\, door prizes and lunch for seniors ( 55 and older). Transportation will also be provided by RCATS from the Courthouse to the event.
LOCATION:Armory\, Wentworth\, N.C.
UID:e.111.1961
SEQUENCE:3
DTSTAMP:20260423T104026Z
URL:https://business.reidsvillechamber.org/events/details/rockingham-county-living-and-aging-well-expo-arm-yourself-with-good-health-09-24-2011-1961
END:VEVENT

END:VCALENDAR
