BEGIN:VCALENDAR
VERSION:2.0
PRODID:-//ChamberMaster//Event Calendar 2.0//EN
METHOD:PUBLISH
X-PUBLISHED-TTL:P3D
REFRESH-INTERVAL:P3D
CALSCALE:GREGORIAN
BEGIN:VEVENT
DTSTART:20100119T200000Z
DTEND:20100119T210000Z
X-MICROSOFT-CDO-ALLDAYEVENT:FALSE
SUMMARY:Rockingham County Non-profit Council
DESCRIPTION:January 19\, 2010\nRockingham County Nonprofit Council \n3:00 p.m.\nRockingham County Cooperative Extension\n525 NC Hwy 65\, Reidsville
X-ALT-DESC;FMTTYPE=text/html:<div><p align="center"><span style="font-size: medium"><strong>January 19\, 2010</strong><br />Rockingham County Nonprofit Council&nbsp\;<br />3:00 p.m.<br />Rockingham County Cooperative Extension<br />525 NC Hwy 65\, Reidsville</span></p></div>
LOCATION:
UID:e.111.1284
SEQUENCE:3
DTSTAMP:20260424T184859Z
URL:https://business.reidsvillechamber.org/events/details/rockingham-county-non-profit-council-01-19-2010-1284
END:VEVENT

END:VCALENDAR
