BEGIN:VCALENDAR
VERSION:2.0
PRODID:-//ChamberMaster//Event Calendar 2.0//EN
METHOD:PUBLISH
X-PUBLISHED-TTL:P3D
REFRESH-INTERVAL:P3D
CALSCALE:GREGORIAN
BEGIN:VEVENT
DTSTART:20101103T153000Z
DTEND:20101103T170000Z
X-MICROSOFT-CDO-ALLDAYEVENT:FALSE
SUMMARY:Rockingham County Non-Profit Council Volunteer Luncheon & Award Recognition
DESCRIPTION:Rockingham County Non-Profit Council\n\n	\n\n	Volunteer Appreciation Luncheon\n\n	&\n\n	2010 Governors Volunteer Service Award Recognition\n\n	\n\n	Treat your special volunteers to lunch to show your appreciation.\n\n	\n\n	November 3\, 2010\n\n	11:30 a.m. to 1:00 p.m.\n\n	at the\n\n	Rockingham County Cooperative Extension Agriculture Building\n\n	(Old Wentworth School)\n\n	525 NC Hwy 65\, Reidsville\, NC 27320\n\n	\n\n	$10 per person\n\n	\n\n	*RSVP by 10/26/2010 to:  rcnonprofitcouncil@gmail.com\n\n	\n\n	Submit photos of volunteers in action for slide show by e-mailing them to:  rcnonprofitcouncil@gmail.com\n\n	\n\n	Help us decorate with a centerpiece that highlights your agency or current fundraiser.  Please confirm your donation of centerpiece ASAP.
X-ALT-DESC;FMTTYPE=text/html:<p style="text-align: center\;">\n	<span style="font-family: times new roman\;"><strong><em><span style="font-size: 18px\;">Rockingham County Non-Profit Council</span></em></strong><br />\n	<br />\n	<span style="font-size: 18px\;"><strong><span style="color: rgb(0\, 0\, 255)\;">Volunteer Appreciation Luncheon<br />\n	&amp\;<br />\n	2010 Governors Volunteer Service Award Recognition</span></strong></span><br />\n	<br />\n	<span style="font-size: 14px\;">Treat your special volunteers to lunch to show your appreciation.</span><br />\n	<br />\n	<span style="font-size: 16px\;"><strong><span style="background-color: rgb(255\, 255\, 0)\;">November 3\, 2010</span><br />\n	<span style="background-color: rgb(255\, 255\, 0)\;">11:30 a.m. to 1:00 p.m.</span></strong></span><br />\n	at the<br />\n	<span style="font-size: 18px\;">Rockingham County Cooperative Extension Agriculture Building<br />\n	(<em>Old Wentworth School</em>)<br />\n	525 NC Hwy 65\, Reidsville\, NC 27320</span><br />\n	<br />\n	<span style="font-size: 16px\;"><strong><span style="background-color: rgb(255\, 255\, 0)\;">$10 per person</span></strong></span><br />\n	<br />\n	<span style="color: rgb(0\, 0\, 255)\;"><span style="font-size: 18px\;">*<em><u>RSVP by 10/26/2010 to</u>:</em>&nbsp\; rcnonprofitcouncil@gmail.com</span></span><br />\n	<br />\n	<strong>Submit photos of volunteers in action</strong> for slide show by e-mailing them to:&nbsp\; rcnonprofitcouncil@gmail.com<br />\n	<br />\n	Help us decorate with a centerpiece that highlights your agency or current fundraiser.&nbsp\; Please confirm your donation of centerpiece ASAP.</span></p>\n
LOCATION:
UID:e.111.1531
SEQUENCE:3
DTSTAMP:20260424T023113Z
URL:https://business.reidsvillechamber.org/events/details/rockingham-county-non-profit-council-volunteer-luncheon-award-recognition-11-03-2010-1531
END:VEVENT

END:VCALENDAR
