BEGIN:VCALENDAR
VERSION:2.0
PRODID:-//ChamberMaster//Event Calendar 2.0//EN
METHOD:PUBLISH
X-PUBLISHED-TTL:P3D
REFRESH-INTERVAL:P3D
CALSCALE:GREGORIAN
BEGIN:VEVENT
DTSTART;VALUE=DATE:20101022
DTEND;VALUE=DATE:20101023
TRANSP:TRANSPARENT
X-MICROSOFT-CDO-ALLDAYEVENT:TRUE
SUMMARY:Rockingham County PINK DAY
DESCRIPTION:Join the American Cancer Society as we promote breast cancer awareness across the county!  Donate $1 or more to wear pink and encourage others to do so at your workplace on Friday\, October 22nd.  Call the American Cancer Society office in Greensboro to register!
X-ALT-DESC;FMTTYPE=text/html:Join the American Cancer Society as we promote breast cancer awareness across the county!  Donate $1 or more to wear pink and encourage others to do so at your workplace on Friday\, October 22nd.  Call the American Cancer Society office in Greensboro to register! 
LOCATION:Your workplace\, church\, school or community organization
UID:e.111.1527
SEQUENCE:3
DTSTAMP:20260424T035835Z
URL:https://business.reidsvillechamber.org/events/details/rockingham-county-pink-day-10-22-2010-1527
END:VEVENT

END:VCALENDAR
