BEGIN:VCALENDAR
VERSION:2.0
PRODID:-//ChamberMaster//Event Calendar 2.0//EN
METHOD:PUBLISH
X-PUBLISHED-TTL:P3D
REFRESH-INTERVAL:P3D
CALSCALE:GREGORIAN
BEGIN:VEVENT
DTSTART:20101027T160000Z
DTEND:20101027T173000Z
X-MICROSOFT-CDO-ALLDAYEVENT:FALSE
SUMMARY:Rockingham County "Pink Talk"
DESCRIPTION:Join the American Cancer Society for an informative and fun luncheon surrounding breast cancer awareness and tips for general well-being\; a $5 donation is requested at the door.
X-ALT-DESC;FMTTYPE=text/html:Join the American Cancer Society for an informative and fun luncheon surrounding breast cancer awareness and tips for general well-being\; a $5 donation is requested at the door.
LOCATION:Downstairs classroom at Morehead Memorial Hospital
UID:e.111.1529
SEQUENCE:3
DTSTAMP:20260424T052951Z
URL:https://business.reidsvillechamber.org/events/details/rockingham-county-pink-talk-10-27-2010-1529
END:VEVENT

END:VCALENDAR
