BEGIN:VCALENDAR
VERSION:2.0
PRODID:-//ChamberMaster//Event Calendar 2.0//EN
METHOD:PUBLISH
X-PUBLISHED-TTL:P3D
REFRESH-INTERVAL:P3D
CALSCALE:GREGORIAN
BEGIN:VEVENT
DTSTART:20111025T130000Z
DTEND:20111025T143000Z
X-MICROSOFT-CDO-ALLDAYEVENT:FALSE
SUMMARY:Rockingham County Pink Talk Program at Annie Penn Hospital
DESCRIPTION:Tuesday October 25th from 9-10:30am in the Womankind Center on the hospital's 4th floor.\n\n	This program\, sponsored by the American Cancer Society and Annie Penn Hospital\, will provide information\, resources and sharing opportunities for those whose lives have been touched by breast cancer.\nTo register or for more information\, please call (336) 834-0844.
X-ALT-DESC;FMTTYPE=text/html:<p class="MsoNormal" style="margin: 0in 0in 0pt">\n	<font color="#000000" face="Times New Roman" size="3">Tuesday October 25<sup>th</sup> from 9-10:30am in the Womankind Center on the hospital&rsquo\;s 4<sup>th</sup> floor.</font></p>\n<p class="MsoNormal" style="margin: 0in 0in 0pt">\n	<font color="#000000" face="Times New Roman" size="3">This program\, sponsored by the American Cancer Society and Annie Penn Hospital\, will provide information\, resources and sharing opportunities for those whose lives have been touched by breast cancer.</font></p>\n<span style="font-size: 12pt\; font-family: 'times new roman'\; mso-fareast-font-family: 'times new roman'\; mso-ansi-language: en-us\; mso-fareast-language: en-us\; mso-bidi-language: ar-sa"><font color="#000000">To register or for more information\, please call (336) 834-0844. </font></span>
LOCATION:Annie Penn Hospital
UID:e.111.2045
SEQUENCE:3
DTSTAMP:20260423T085801Z
URL:https://business.reidsvillechamber.org/events/details/rockingham-county-pink-talk-program-at-annie-penn-hospital-10-25-2011-2045
END:VEVENT

END:VCALENDAR
