BEGIN:VCALENDAR
VERSION:2.0
PRODID:-//ChamberMaster//Event Calendar 2.0//EN
METHOD:PUBLISH
X-PUBLISHED-TTL:P3D
REFRESH-INTERVAL:P3D
CALSCALE:GREGORIAN
BEGIN:VEVENT
DTSTART:20100310T000000Z
DTEND:20100310T020000Z
X-MICROSOFT-CDO-ALLDAYEVENT:FALSE
SUMMARY:Rockingham Reads presents ''The Bible Salesman''
DESCRIPTION:Join us for an exciting live appearance by Clyde Edgertonauthor of "The Bible Salesman" Rockingham Community College and Rockingham County Reads will host Clyde Edgerton and Mike Craver in "A Live Production of Readers' Theatre of the Bible Salesman" on Tuesday\, March 9 at 7:00 p.m. in the Auditorium of the Technical Lab Building at Rockingham Community College in Wentworth.   Clyde is a professor of writing at UNC-Wilmington.  Craver is a former member of the Red Clay Ramblers. Clyde is expected to narrate his novel and  do most of the character parts.  Mike takes the part of Henry Dampier and one of the talking cats.  Clyde and Mike will do a variety of songs that set up and comment on the scenes and story of The Bible Salesman.  A fun evening is expected. Tickets are $5 and are available from the Public Library branches or the Rockingham Community College Bookstore.
X-ALT-DESC;FMTTYPE=text/html:<div><div style="text-align: center"><font face="Arial"><strong><span style="font-family: Comic Sans MS"><span style="font-size: medium">Join us for an exciting live appearance by Clyde Edgerton</span></span></strong></font></div><div style="text-align: center"><font face="Arial"><strong><span style="font-family: Comic Sans MS"><span style="font-size: medium">author of &quot\;The Bible Salesman&quot\;</span></span></strong></font></div><div>&nbsp\;</div><div><font face="Arial">Rockingham Community College and Rockingham County Reads will host Clyde Edgerton and Mike Craver in &quot\;A Live Production of Readers' Theatre of the Bible Salesman&quot\; on Tuesday\, March 9 at 7:00 p.m. in the Auditorium of the Technical Lab Building at Rockingham Community College in Wentworth.&nbsp\; </font></div><div>&nbsp\;</div><div><font face="Arial">Clyde is a professor of writing at UNC-Wilmington.&nbsp\; Craver is a former member of the Red Clay Ramblers.</font></div><div>&nbsp\;</div><div><font face="Arial">Clyde is expected to narrate his novel and&nbsp\; do most of the character parts.&nbsp\; Mike takes the part of Henry Dampier and one of the talking cats.&nbsp\; Clyde and Mike will do a variety of songs that set up and comment on the scenes and story of The Bible Salesman.&nbsp\; A fun evening is expected.</font></div><div>&nbsp\;</div><div><font face="Arial">Tickets are $5 and are available from the Public Library branches or the Rockingham Community College Bookstore.</font></div></div>
LOCATION:
UID:e.111.1331
SEQUENCE:3
DTSTAMP:20260424T153530Z
URL:https://business.reidsvillechamber.org/events/details/rockingham-reads-presents-the-bible-salesman-03-09-2010-1331
END:VEVENT

END:VCALENDAR
