BEGIN:VCALENDAR
VERSION:2.0
PRODID:-//ChamberMaster//Event Calendar 2.0//EN
METHOD:PUBLISH
X-PUBLISHED-TTL:P3D
REFRESH-INTERVAL:P3D
CALSCALE:GREGORIAN
BEGIN:VEVENT
DTSTART;VALUE=DATE:20120609
DTEND;VALUE=DATE:20120610
TRANSP:TRANSPARENT
X-MICROSOFT-CDO-ALLDAYEVENT:TRUE
SUMMARY:Rollin' Reidsville - Bike Rally and Benefit Ride - Proceeds Benefit "Team Jaxx"
DESCRIPTION:Come Out For a Great Day of Riding\,\n\n	Food\, Fellowship\, and Music!\n\n	\n\n	$20 for Singles $25 for Doubles\n\n	Includes a 60 mile escorted ride\, concert by\n\n	Direct Message and a hot dog lunch\n\n	\n\n	Market Square\n\n	303 S. Scales St. Reidsville\, NC\n\n	Registration 11 AM till 12:30 PM\n\n	Kickstands up at 12:45\n\n	Concert by Direct Message at 2:00 PM
X-ALT-DESC;FMTTYPE=text/html:<p style="text-align: center">\n	Come Out For a Great Day of Riding\,<br />\n	Food\, Fellowship\, and Music!<br />\n	<br />\n	$20 for Singles $25 for Doubles<br />\n	Includes a 60 mile escorted ride\, concert by<br />\n	Direct Message and a hot dog lunch<br />\n	<br />\n	<span style="font-size: 14px">Market Square<br />\n	<span style="font-size: 12px">303 S. Scales St. Reidsville\, NC<br />\n	Registration 11 AM till 12:30 PM<br />\n	Kickstands up at 12:45<br />\n	Concert by Direct Message at 2:00 PM</span></span></p>\n
LOCATION:
UID:e.111.2247
SEQUENCE:3
DTSTAMP:20260425T111031Z
URL:https://business.reidsvillechamber.org/events/details/rollin-reidsville-bike-rally-and-benefit-ride-proceeds-benefit-team-jaxx-06-09-2012-2247
END:VEVENT

END:VCALENDAR
