BEGIN:VCALENDAR
VERSION:2.0
PRODID:-//ChamberMaster//Event Calendar 2.0//EN
METHOD:PUBLISH
X-PUBLISHED-TTL:P3D
REFRESH-INTERVAL:P3D
CALSCALE:GREGORIAN
BEGIN:VEVENT
DTSTART:20110208T173000Z
DTEND:20110208T190000Z
X-MICROSOFT-CDO-ALLDAYEVENT:FALSE
SUMMARY:Roof Repair Seminar at Sherwin Williams
DESCRIPTION:Join us for lunch and a hands on demonstration for patching and repairing all types of roofs.
X-ALT-DESC;FMTTYPE=text/html:Join us for lunch and a hands on demonstration for patching and repairing all types of roofs.
LOCATION:Sherwin Williams\, 620 South Scales St\, Reidsville\, NC 27320
UID:e.111.1588
SEQUENCE:3
DTSTAMP:20260423T231231Z
URL:https://business.reidsvillechamber.org/events/details/roof-repair-seminar-at-sherwin-williams-02-08-2011-1588
END:VEVENT

END:VCALENDAR
