BEGIN:VCALENDAR
VERSION:2.0
PRODID:-//ChamberMaster//Event Calendar 2.0//EN
METHOD:PUBLISH
X-PUBLISHED-TTL:P3D
REFRESH-INTERVAL:P3D
CALSCALE:GREGORIAN
BEGIN:VEVENT
DTSTART;VALUE=DATE:20100430
DTEND;VALUE=DATE:20100501
TRANSP:TRANSPARENT
X-MICROSOFT-CDO-ALLDAYEVENT:TRUE
SUMMARY:Rural Community Evidence-Based Practice Symposium
DESCRIPTION:Sponsored by Annie Penn Nursing Staff in collaboration with Morehead Memorial Hospital and Rockingham Community College\, this professional education event will be held on Friday\, April\, 30\, 2010\, in the Advanced Technologies Building at Rockingham Community College.  Geared toward healthcare professionals\, this day-long session will feature a keynote address by Marjorie Jenkins\, PhD\, RN\, FACHE\, NEA\, Director\, Nursing/Magnet Program for Moses Cone Health System\, as well as break-out sessions on various nursing "Hot Topics".  Continuing education hours will be awarded to attendees for selected sessions.  The registration fee is $20\, which includes lunch.  The registration deadline has been extended to APRIL 1\, 2010.  Please use contact information if you are interested in registering\, or for more information.  Registration will not be available on the day of the conference.
X-ALT-DESC;FMTTYPE=text/html:Sponsored by Annie Penn Nursing Staff in collaboration with Morehead Memorial Hospital and Rockingham Community College\, this professional education event will be held on Friday\, April\, 30\, 2010\, in the Advanced Technologies Building at Rockingham Community College.  Geared toward healthcare professionals\, this day-long session will feature a keynote address by Marjorie Jenkins\, PhD\, RN\, FACHE\, NEA\, Director\, Nursing/Magnet Program for Moses Cone Health System\, as well as break-out sessions on various nursing "Hot Topics".  Continuing education hours will be awarded to attendees for selected sessions.  The registration fee is $20\, which includes lunch.  The registration deadline has been extended to APRIL 1\, 2010.  Please use contact information if you are interested in registering\, or for more information.  Registration will not be available on the day of the conference.
LOCATION:Advanced Technologies Building of Rockingham Community College
UID:e.111.1329
SEQUENCE:3
DTSTAMP:20260424T132128Z
URL:https://business.reidsvillechamber.org/events/details/rural-community-evidence-based-practice-symposium-04-30-2010-1329
END:VEVENT

END:VCALENDAR
