BEGIN:VCALENDAR
VERSION:2.0
PRODID:-//ChamberMaster//Event Calendar 2.0//EN
METHOD:PUBLISH
X-PUBLISHED-TTL:P3D
REFRESH-INTERVAL:P3D
CALSCALE:GREGORIAN
BEGIN:VEVENT
DTSTART:20120215T150000Z
DTEND:20120215T190000Z
X-MICROSOFT-CDO-ALLDAYEVENT:FALSE
SUMMARY:Rural Health Event Scheduled
DESCRIPTION:The Rural Health Team has been scheduled to be in Reidsville at the Chamber Of Commerce on Wednesday\, February 15th from 10am until 2pm.  This event is for veterans. They will be enrolling veterans in the VA Healthcare System and answering any questions they may have\n\n\n\nClick Here for more info
X-ALT-DESC;FMTTYPE=text/html:&nbsp\;The Rural Health Team has been scheduled to be in Reidsville at the Chamber Of Commerce on Wednesday\, February 15th from 10am until 2pm.&nbsp\; This event is for veterans. They will be enrolling veterans in the VA Healthcare System and answering any questions they may have<br />\n<br clear="all" />\n<a href="http://cloud.chambermaster.com/userfiles/UserFiles/chambers/111/File/va.htm">Click Here for more info</a>
LOCATION:
UID:e.111.2132
SEQUENCE:3
DTSTAMP:20260421T161340Z
URL:https://business.reidsvillechamber.org/events/details/rural-health-event-scheduled-02-15-2012-2132
END:VEVENT

END:VCALENDAR
