BEGIN:VCALENDAR
VERSION:2.0
PRODID:-//ChamberMaster//Event Calendar 2.0//EN
METHOD:PUBLISH
X-PUBLISHED-TTL:P3D
REFRESH-INTERVAL:P3D
CALSCALE:GREGORIAN
BEGIN:VEVENT
DTSTART:20100610T220000Z
DTEND:20100610T233000Z
X-MICROSOFT-CDO-ALLDAYEVENT:FALSE
SUMMARY:Salt & Pepper Shakers Clay Class
DESCRIPTION:SALT & PEPPER SHAKERS with Dottie Talley \nIt's picnic season! Make your own salt and pepper shakers using a cylinder form and your own creativity! Choose from several glaze colors. Fast and easy class. (Adults\, children under 12 with adult.)
X-ALT-DESC;FMTTYPE=text/html:<div>SALT &amp\; PEPPER SHAKERS with Dottie Talley <br />It's picnic season! Make your own salt and pepper shakers using a cylinder form and your own creativity! Choose from several glaze colors. Fast and easy class. (Adults\, children under 12 with adult.)</div>
LOCATION:Upstairs studio at Everyday Art\, 209 SW Market Street\, Downtown Reidsville
UID:e.111.1463
SEQUENCE:3
DTSTAMP:20260424T113844Z
URL:https://business.reidsvillechamber.org/events/details/salt-pepper-shakers-clay-class-06-10-2010-1463
END:VEVENT

END:VCALENDAR
