BEGIN:VCALENDAR
VERSION:2.0
PRODID:-//ChamberMaster//Event Calendar 2.0//EN
METHOD:PUBLISH
X-PUBLISHED-TTL:P3D
REFRESH-INTERVAL:P3D
CALSCALE:GREGORIAN
BEGIN:VEVENT
DTSTART:20111209T160000Z
DTEND:20111209T170000Z
X-MICROSOFT-CDO-ALLDAYEVENT:FALSE
SUMMARY:Santa Link Toy Pick-up- Annie Penn Hospital Main Lobby
DESCRIPTION:Santa and his CareLink Elves will be picking up new\, unwrapped toys for a Rockingham County distribution from The North Pole. Anyone who would like to help with this project is encouraged to bring their items to the hospital's Main Entrance on Friday\, December 9th\, from 11:00 a.m. until 12:00 p.m.  Santa and the Elves will load the CareLink Mobile Transport Unit with toys at that time. Please help to make a child's Christmas special this year!
X-ALT-DESC;FMTTYPE=text/html:<span style="font-size: 10pt\; font-family: calibri\; mso-fareast-font-family: 'times new roman'\; mso-bidi-font-family: 'times new roman'\; mso-ansi-language: en-us\; mso-fareast-language: en-us\; mso-bidi-language: ar-sa"><font color="#000000" face="Times New Roman">Santa and his CareLink Elves will be picking up new\, unwrapped toys for a Rockingham County distribution from The North Pole. Anyone who would like to help with this project is encouraged to bring their items to the hospital&rsquo\;s Main Entrance on <b style="mso-bidi-font-weight: normal">Friday\, December 9<sup>th</sup></b>\, from 11:00 a.m. until 12:00 p.m.<span style="mso-spacerun: yes">&nbsp\; </span>Santa and the Elves will load the CareLink Mobile Transport Unit with toys at that time. Please help to make a child&rsquo\;s Christmas special this year!</font></span>
LOCATION:Annie Penn Hospital
UID:e.111.2071
SEQUENCE:3
DTSTAMP:20260421T175516Z
URL:https://business.reidsvillechamber.org/events/details/santa-link-toy-pick-up-annie-penn-hospital-main-lobby-12-09-2011-2071
END:VEVENT

END:VCALENDAR
