BEGIN:VCALENDAR
VERSION:2.0
PRODID:-//ChamberMaster//Event Calendar 2.0//EN
METHOD:PUBLISH
X-PUBLISHED-TTL:P3D
REFRESH-INTERVAL:P3D
CALSCALE:GREGORIAN
BEGIN:VEVENT
DTSTART:20090811T213000Z
DTEND:20090811T223000Z
X-MICROSOFT-CDO-ALLDAYEVENT:FALSE
SUMMARY:Sculpture Unveiling Ceremony at Market Square
DESCRIPTION:The City of Reidsville and Home Savings Bank invite you to attend the Unveiling of "Meet Me at the Square"\, a brick relief sculpture at Market Square\, located at the corner of Scales and Settle Streets in downtown Reidsville
X-ALT-DESC;FMTTYPE=text/html:<div><span style="font-size: medium"><span style="font-family: Comic Sans MS">The City of Reidsville and Home Savings Bank invite you to attend the Unveiling of &quot\;Meet Me at the Square&quot\;\, a brick relief sculpture at Market Square\, located at the corner of Scales and Settle Streets in downtown Reidsville </span></span></div>
LOCATION:Market Square\, Downtown Reidsville
UID:e.111.1204
SEQUENCE:3
DTSTAMP:20260425T024016Z
URL:https://business.reidsvillechamber.org/events/details/sculpture-unveiling-ceremony-at-market-square-08-11-2009-1204
END:VEVENT

END:VCALENDAR
