BEGIN:VCALENDAR
VERSION:2.0
PRODID:-//ChamberMaster//Event Calendar 2.0//EN
METHOD:PUBLISH
X-PUBLISHED-TTL:P3D
REFRESH-INTERVAL:P3D
CALSCALE:GREGORIAN
BEGIN:VEVENT
DTSTART:20100408T154500Z
DTEND:20100408T180000Z
X-MICROSOFT-CDO-ALLDAYEVENT:FALSE
SUMMARY:Seminar-unemployment appeal hearings for Employers
DESCRIPTION:Please join the Rockingham County Personnel Association for the following event: Unemployment Appeals HearingsPresented by Jeffrey T. Smith\, Deputy Chief Appeals Referee & Special Deputy Commissioner April 8\, 201011:45 a.m.   2:00 p.m.Rockingham Community CollegeAdvanced Technologies Building\, Room 105 Lunch will be served by Teri's Catering & BakeryLimited seating\, reservations requiredPlease RSVP by March 31\, 2010 via our website at http://www.rockinghamcopersonnel.webs.com  Topics will include: How to plan and prepare for an unemployment insurance appeals hearing\n\nUpdates to the Employment Security Law from the 2009 General Assembly\n\nLevels of claims and appeals with the ESC\n\nYou be the Appeals Referee:  samples cases\n\nQuestions and Answer session
X-ALT-DESC;FMTTYPE=text/html:<div><p class="MsoNormal" align="center" style="margin: 0in 0in 0pt\; text-align: center"><b style="mso-bidi-font-weight: normal"><i style="mso-bidi-font-style: normal"><span style="font-size: 14pt"><font face="Times New Roman">Please join the <st1:place w:st="on"><st1:placename w:st="on">Rockingham</st1:placename> <st1:placetype w:st="on">County</st1:placetype></st1:place> Personnel Association for the following event:<o:p></o:p></font></span></i></b></p><p class="MsoNormal" align="center" style="margin: 0in 0in 0pt\; text-align: center"><b style="mso-bidi-font-weight: normal"><i style="mso-bidi-font-style: normal"><span style="font-size: 14pt"><o:p><font face="Times New Roman">&nbsp\;</font></o:p></span></i></b></p><p class="MsoNormal" align="center" style="margin: 0in 0in 0pt\; text-align: center"><b style="mso-bidi-font-weight: normal"><i style="mso-bidi-font-style: normal"><span style="font-size: 14pt"><font face="Times New Roman"><o:p></o:p></font></span></i></b></p><p class="MsoNormal" align="center" style="margin: 0in 0in 0pt\; text-align: center"><b style="mso-bidi-font-weight: normal"><i style="mso-bidi-font-style: normal"><span style="font-size: 14pt"><font face="Times New Roman">Unemployment Appeals Hearings<o:p></o:p></font></span></i></b></p><p class="MsoNormal" align="center" style="margin: 0in 0in 0pt\; text-align: center"><b style="mso-bidi-font-weight: normal"><i style="mso-bidi-font-style: normal"><span style="font-size: 14pt"><font face="Times New Roman">Presented by Jeffrey T. Smith\, Deputy Chief Appeals Referee &amp\; Special Deputy Commissioner<o:p></o:p></font></span></i></b></p><p class="MsoNormal" align="center" style="margin: 0in 0in 0pt\; text-align: center"><b style="mso-bidi-font-weight: normal"><span style="font-size: 14pt"><o:p></o:p></span></b></p><p class="MsoNormal" align="center" style="margin: 0in 0in 0pt\; text-align: center"><b style="mso-bidi-font-weight: normal"><span style="font-size: 14pt"><o:p><font face="Times New Roman">&nbsp\;</font></o:p></span></b></p><p class="MsoNormal" align="center" style="margin: 0in 0in 0pt\; text-align: center"><b style="mso-bidi-font-weight: normal"><i style="mso-bidi-font-style: normal"><span style="font-size: 14pt"><font face="Times New Roman">April 8\, 2010<o:p></o:p></font></span></i></b></p><p class="MsoNormal" align="center" style="margin: 0in 0in 0pt\; text-align: center"><b style="mso-bidi-font-weight: normal"><i style="mso-bidi-font-style: normal"><span style="font-size: 14pt"><font face="Times New Roman">11:45 a.m. &ndash\; 2:00 p.m.<o:p></o:p></font></span></i></b></p><p class="MsoNormal" align="center" style="margin: 0in 0in 0pt\; text-align: center"><font face="Times New Roman"><st1:place w:st="on"><st1:placename w:st="on"><b style="mso-bidi-font-weight: normal"><i style="mso-bidi-font-style: normal"><span style="font-size: 14pt">Rockingham</span></i></b></st1:placename><b style="mso-bidi-font-weight: normal"><i style="mso-bidi-font-style: normal"><span style="font-size: 14pt"> <st1:placetype w:st="on">Community College</st1:placetype></span></i></b></st1:place><b style="mso-bidi-font-weight: normal"><i style="mso-bidi-font-style: normal"><span style="font-size: 14pt"><o:p></o:p></span></i></b></font></p><p class="MsoNormal" align="center" style="margin: 0in 0in 0pt\; text-align: center"><b style="mso-bidi-font-weight: normal"><i style="mso-bidi-font-style: normal"><span style="font-size: 14pt"><font face="Times New Roman">Advanced <st1:place w:st="on"><st1:placename w:st="on">Technologies</st1:placename> <st1:placetype w:st="on">Building</st1:placetype></st1:place>\, Room 105<o:p></o:p></font></span></i></b></p><p class="MsoNormal" align="center" style="margin: 0in 0in 0pt\; text-align: center"><b style="mso-bidi-font-weight: normal"><i style="mso-bidi-font-style: normal"><span style="font-size: 14pt"><o:p><font face="Times New Roman">&nbsp\;</font></o:p></span></i></b></p><p class="MsoNormal" align="center" style="margin: 0in 0in 0pt\; text-align: center"><b style="mso-bidi-font-weight: normal"><i style="mso-bidi-font-style: normal"><span style="font-size: 14pt"><font face="Times New Roman">Lunch will be served by Teri&rsquo\;s Catering &amp\; Bakery<o:p></o:p></font></span></i></b></p><p class="MsoNormal" align="center" style="margin: 0in 0in 0pt\; text-align: center"><b style="mso-bidi-font-weight: normal"><i style="mso-bidi-font-style: normal"><span style="font-size: 14pt"><font face="Times New Roman">Limited seating\, reservations required<o:p></o:p></font></span></i></b></p><p class="MsoNormal" align="center" style="margin: 0in 0in 0pt\; text-align: center"><b style="mso-bidi-font-weight: normal"><i style="mso-bidi-font-style: normal"><span style="font-size: 14pt"><font face="Times New Roman">Please RSVP by March 31\, 2010 via our website at http://www.rockinghamcopersonnel.webs.com<o:p></o:p></font></span></i></b></p><p class="MsoNormal" style="margin: 0in 0in 0pt"><b style="mso-bidi-font-weight: normal"><span style="font-size: 14pt"><o:p><font face="Times New Roman">&nbsp\;</font></o:p></span></b></p><p class="MsoNormal" style="margin: 0in 0in 0pt"><b style="mso-bidi-font-weight: normal"><span style="font-size: 14pt"><o:p><font face="Times New Roman">&nbsp\;</font></o:p></span></b></p><p class="MsoNormal" style="margin: 0in 0in 0pt"><b style="mso-bidi-font-weight: normal"><i style="mso-bidi-font-style: normal"><span style="font-size: 14pt"><font face="Times New Roman">Topics will include:<o:p></o:p></font></span></i></b></p><p class="MsoNormal" style="margin: 0in 0in 0pt"><i style="mso-bidi-font-style: normal"><o:p><font face="Times New Roman" size="3">&nbsp\;</font></o:p></i></p><ul type="disc" style="margin-top: 0in"><li class="MsoNormal" style="margin: 0in 0in 0pt\; mso-list: l0 level1 lfo1\; tab-stops: list .5in"><i style="mso-bidi-font-style: normal"><font size="3"><font face="Times New Roman">How to plan and prepare for an unemployment insurance appeals hearing<br style="mso-special-character: line-break" /><br style="mso-special-character: line-break" /><o:p></o:p></font></font></i></li><li class="MsoNormal" style="margin: 0in 0in 0pt\; mso-list: l0 level1 lfo1\; tab-stops: list .5in"><i style="mso-bidi-font-style: normal"><font size="3"><font face="Times New Roman">Updates to the Employment Security Law from the 2009 General Assembly<br style="mso-special-character: line-break" /><br style="mso-special-character: line-break" /><o:p></o:p></font></font></i></li><li class="MsoNormal" style="margin: 0in 0in 0pt\; mso-list: l0 level1 lfo1\; tab-stops: list .5in"><i style="mso-bidi-font-style: normal"><font size="3"><font face="Times New Roman">Levels of claims and appeals with the ESC<br style="mso-special-character: line-break" /><br style="mso-special-character: line-break" /><o:p></o:p></font></font></i></li><li class="MsoNormal" style="margin: 0in 0in 0pt\; mso-list: l0 level1 lfo1\; tab-stops: list .5in"><i style="mso-bidi-font-style: normal"><font size="3"><font face="Times New Roman">You be the Appeals Referee:&nbsp\; samples cases<br style="mso-special-character: line-break" /><br style="mso-special-character: line-break" /><o:p></o:p></font></font></i></li><li class="MsoNormal" style="margin: 0in 0in 0pt\; mso-list: l0 level1 lfo1\; tab-stops: list .5in"><i style="mso-bidi-font-style: normal"><font size="3"><font face="Times New Roman">Questions and Answer session<o:p></o:p></font></font></i></li></ul></div>
LOCATION:
UID:e.111.1342
SEQUENCE:3
DTSTAMP:20260424T132658Z
URL:https://business.reidsvillechamber.org/events/details/seminar-unemployment-appeal-hearings-for-employers-04-08-2010-1342
END:VEVENT

END:VCALENDAR
