BEGIN:VCALENDAR
VERSION:2.0
PRODID:-//ChamberMaster//Event Calendar 2.0//EN
METHOD:PUBLISH
X-PUBLISHED-TTL:P3D
REFRESH-INTERVAL:P3D
CALSCALE:GREGORIAN
BEGIN:VEVENT
DTSTART:20110416T120000Z
DTEND:20110416T223000Z
X-MICROSOFT-CDO-ALLDAYEVENT:FALSE
SUMMARY:Seymour Johnson Air Show -- Salute to "Unwavering Support"
DESCRIPTION:Pelham Transportation Corporation\n\n	provides transportation to:\n\n	 \n\n	Seymour Johnson Air Show \n\n	April 16    \n\n	Salute to "Unwavering Support"\n\n	Gates are open 8:00 AM and close 6:30 PM\n\n	Admission free.\n\n	 \n\n	Depart:114 W. Morehead Street (Parking Lot across the street))\n\n	Depart  6:00 am\n\n	Transportation cost per person:  $40.00     \n\n	Reservation Deadline:  April 8\, 2011\n\n	 \n\n	If you have questions\, please contact the office below:\n\n	 \n\n	Barbara DeJournette\n\n	Pelham Transportation Corporation (PTC)\n\n	114 W. Morehead Street (P.O. Box 664)\n\n	Reidsville\, N.C.  27320\n\n	(336) 349-7107\n\n	www.pelhamtransportation.com
X-ALT-DESC;FMTTYPE=text/html:<br />\n<div style="text-align: center\;">\n	<em><font face="Arial" size="2">Pelham Transportation Corporation<br />\n	provides transportation to:</font></em></div>\n<div style="text-align: center\;">\n	&nbsp\;</div>\n<div style="text-align: center\;">\n	<font face="Arial" size="2"><strong>Seymour Johnson Air Show&nbsp\;<br />\n	April 16&nbsp\;&nbsp\;&nbsp\; </strong><br />\n	<strong>Salute to &quot\;Unwavering Support&quot\;</strong></font></div>\n<div style="text-align: center\;">\n	<font face="Arial" size="2">Gates are open 8:00 AM and close 6:30 PM</font></div>\n<div style="text-align: center\;">\n	<font face="Arial" size="2">Admission free.</font></div>\n<div style="text-align: center\;">\n	&nbsp\;</div>\n<div style="text-align: center\;">\n	<font face="Arial" size="2">Depart:114 W. Morehead Street (Parking Lot across the street))</font></div>\n<div style="text-align: center\;">\n	<font face="Arial" size="2">Depart&nbsp\; 6:00 am</font></div>\n<div style="text-align: center\;">\n	<font face="Arial" size="2">Transportation cost per person:&nbsp\; $40.00&nbsp\;&nbsp\;&nbsp\;&nbsp\;&nbsp\;</font></div>\n<div style="text-align: center\;">\n	<strong><font face="Arial" size="2">Reservation Deadline:&nbsp\; April 8\, 2011</font></strong></div>\n<div style="text-align: center\;">\n	&nbsp\;</div>\n<div style="text-align: center\;">\n	<font face="Arial" size="2">If you have questions\, please contact the office below:</font></div>\n<div style="text-align: center\;">\n	&nbsp\;</div>\n<div style="text-align: center\;">\n	<font face="Arial" size="2">Barbara DeJournette<br />\n	Pelham Transportation Corporation (PTC)<br />\n	114 W. Morehead Street (P.O. Box 664)<br />\n	Reidsville\, N.C.&nbsp\; 27320<br />\n	(336) 349-7107<br />\n	<a href="http://www.pelhamtransportation.com/" title="http://www.pelhamtransportation.com/">www.pelhamtransportation.com</a></font><br />\n	<br />\n	<br />\n	<br />\n	<br />\n	&nbsp\;</div>\n
LOCATION:
UID:e.111.1882
SEQUENCE:3
DTSTAMP:20260423T182546Z
URL:https://business.reidsvillechamber.org/events/details/seymour-johnson-air-show-salute-to-unwavering-support-04-16-2011-1882
END:VEVENT

END:VCALENDAR
