BEGIN:VCALENDAR
VERSION:2.0
PRODID:-//ChamberMaster//Event Calendar 2.0//EN
METHOD:PUBLISH
X-PUBLISHED-TTL:P3D
REFRESH-INTERVAL:P3D
CALSCALE:GREGORIAN
BEGIN:VEVENT
DTSTART:20111005T170000Z
DTEND:20111005T230000Z
X-MICROSOFT-CDO-ALLDAYEVENT:FALSE
SUMMARY:Short Sugars Golf Tournament Benefiting RCC
DESCRIPTION:Short Sugars Golf Tournament\n\n\n\n\n\n\n\nClick Here for flyer
X-ALT-DESC;FMTTYPE=text/html:<a href="http://cloud.chambermaster.com/userfiles/UserFiles/chambers/111/File/ShortSugarsGolf.pdf">Short Sugars Golf Tournament<br />\n<br />\n<br />\n<br />\nClick Here for flyer</a>
LOCATION:Wolf Creek Golf Club Reidsville
UID:e.111.2033
SEQUENCE:3
DTSTAMP:20260423T091327Z
URL:https://business.reidsvillechamber.org/events/details/short-sugars-golf-tournament-benefiting-rcc-10-05-2011-2033
END:VEVENT

END:VCALENDAR
